BEGIN:VCALENDAR
VERSION:2.0
PRODID:-//Društvo Parada Ponosa - ECPv6.15.17.1//NONSGML v1.0//EN
CALSCALE:GREGORIAN
METHOD:PUBLISH
X-WR-CALNAME:Društvo Parada Ponosa
X-ORIGINAL-URL:https://ljubljanapride.org/en/
X-WR-CALDESC:Events for Društvo Parada Ponosa
REFRESH-INTERVAL;VALUE=DURATION:PT1H
X-Robots-Tag:noindex
X-PUBLISHED-TTL:PT1H
BEGIN:VTIMEZONE
TZID:Europe/Helsinki
BEGIN:DAYLIGHT
TZOFFSETFROM:+0200
TZOFFSETTO:+0300
TZNAME:EEST
DTSTART:20190331T010000
END:DAYLIGHT
BEGIN:STANDARD
TZOFFSETFROM:+0300
TZOFFSETTO:+0200
TZNAME:EET
DTSTART:20191027T010000
END:STANDARD
BEGIN:DAYLIGHT
TZOFFSETFROM:+0200
TZOFFSETTO:+0300
TZNAME:EEST
DTSTART:20200329T010000
END:DAYLIGHT
BEGIN:STANDARD
TZOFFSETFROM:+0300
TZOFFSETTO:+0200
TZNAME:EET
DTSTART:20201025T010000
END:STANDARD
BEGIN:DAYLIGHT
TZOFFSETFROM:+0200
TZOFFSETTO:+0300
TZNAME:EEST
DTSTART:20210328T010000
END:DAYLIGHT
BEGIN:STANDARD
TZOFFSETFROM:+0300
TZOFFSETTO:+0200
TZNAME:EET
DTSTART:20211031T010000
END:STANDARD
END:VTIMEZONE
BEGIN:VEVENT
DTSTART;TZID=Europe/Helsinki:20200303T180000
DTEND;TZID=Europe/Helsinki:20200303T200000
DTSTAMP:20260424T094213
CREATED:20200228T160436Z
LAST-MODIFIED:20200228T161418Z
UID:3416-1583258400-1583265600@ljubljanapride.org
SUMMARY:Preperation for 8th March: Part 2
DESCRIPTION:Throughout February (and beginning of March)\, Pride Connects events will be themed around finding the best activism for each and every one of us. 100 different people\, 100 different types of activism. If you are a person who would go to the street and riot\, a person who wants to deliver educational workshops with young people or who wishes to share their story through art: if you have the desire to change the world and demand change for a better tomorrow\, there is for sure a type of activism that will give the voice to your ideas. ? \nThe goal of this week’s Pride Connects is for activists and those interested in activism to collaborate and create flyers to support at least three protests in Slovenia and Berlin for the upcoming International Women’s Day. At the event we will write the content of the flyers\, support that content with artivism and plan the design. We welcome everyone to creatively express themselves\, making your own feminist propaganda for the Eighth of March! We’ll also link our actions to the bigger picture and more long term plans of the Pride Connects calendar. We’ll provide the materials and inspiration\, all you need to bring is yourself! \n?️ With ‘Pride Connects’\, we strive to connect the local LGBTIQ+ youth\, activists\, and all those interested in the political side of Pride(s) and LGBTIQ+ Human Rights Struggles in Slovenia and across the world. \nWe know that being an openly LGBTIQ+ person and walking down any public space is a political act\, and we know it is not easy – so we want to create a safe(r) space for all LGBTIQ+ people and a place of empowerment.
URL:https://ljubljanapride.org/en/event/priprave-na-8-marec-2-del/
LOCATION:Društvo Parada ponosa\, Dunajska cesta 10\, Ljubljana
ATTACH;FMTTYPE=image/jpeg:https://ljubljanapride.org/wp-content/uploads/2020/02/Cover.jpg
ORGANIZER;CN="Dru%C5%A1tvo Parada ponosa":MAILTO:info@ljubljanapride.org
END:VEVENT
END:VCALENDAR