BEGIN:VCALENDAR
VERSION:2.0
PRODID:-//Društvo Parada Ponosa - ECPv6.15.17.1//NONSGML v1.0//EN
CALSCALE:GREGORIAN
METHOD:PUBLISH
X-WR-CALNAME:Društvo Parada Ponosa
X-ORIGINAL-URL:https://ljubljanapride.org/en/
X-WR-CALDESC:Events for Društvo Parada Ponosa
REFRESH-INTERVAL;VALUE=DURATION:PT1H
X-Robots-Tag:noindex
X-PUBLISHED-TTL:PT1H
BEGIN:VTIMEZONE
TZID:Europe/Helsinki
BEGIN:DAYLIGHT
TZOFFSETFROM:+0200
TZOFFSETTO:+0300
TZNAME:EEST
DTSTART:20190331T010000
END:DAYLIGHT
BEGIN:STANDARD
TZOFFSETFROM:+0300
TZOFFSETTO:+0200
TZNAME:EET
DTSTART:20191027T010000
END:STANDARD
BEGIN:DAYLIGHT
TZOFFSETFROM:+0200
TZOFFSETTO:+0300
TZNAME:EEST
DTSTART:20200329T010000
END:DAYLIGHT
BEGIN:STANDARD
TZOFFSETFROM:+0300
TZOFFSETTO:+0200
TZNAME:EET
DTSTART:20201025T010000
END:STANDARD
BEGIN:DAYLIGHT
TZOFFSETFROM:+0200
TZOFFSETTO:+0300
TZNAME:EEST
DTSTART:20210328T010000
END:DAYLIGHT
BEGIN:STANDARD
TZOFFSETFROM:+0300
TZOFFSETTO:+0200
TZNAME:EET
DTSTART:20211031T010000
END:STANDARD
END:VTIMEZONE
BEGIN:VEVENT
DTSTART;TZID=Europe/Helsinki:20200519T180000
DTEND;TZID=Europe/Helsinki:20200519T200000
DTSTAMP:20260425T021641
CREATED:20200525T133920Z
LAST-MODIFIED:20200525T134449Z
UID:3622-1589911200-1589918400@ljubljanapride.org
SUMMARY:Protest In Quarantine Part 3
DESCRIPTION:Pride connects events are at rest this days\, too. Still we try to be active and continue to prepare content for and with you. \nThe year 2019 was the year of the protests. The rise of worldwide street actions was so big\, it was named the Global protest wave of 2019. Then\, the virus hit and put a stop to one of the key components of street protests: public gatherings. Our realities have changed within days and it seems that social distancing and limitations on public gatherings will be a part of our new normal. This affected many mobilisations but it didn’t stop the people. We adapted\, and daily we are finding new ways of nonviolent and safe protesting. The common denominator is creativity and solidarity and if we look at just Slovenia we can see online support groups (with almost 60.000 members!)\, bike riding\, balcony singing and fundraising collective actions. Let’s explore together how people are protesting here and worldwide and figure out how we will make our voices heard in the future. \nThis Tuesday\, in light of Sundays IDAHOBIT 2020 we invite you to join on Zoom and talk about your experience with the quarantine. Since the visibility of our community is weakened a lot of us have a strong need to reconnect\, to see each other\, to know what is going on in the community. We also understand that being quarantined might limit your ways of communicating- if you do not have enough privacy to be comfortable enough sharing your experience\, you are still very welcome to just join on the call and listen to the others. You can write your contribution and send it\, you can even write in the zoom chat or just smile and wave! \n?️ With ‘Pride Connects’\, we strive to connect the local LGBTIQ+ youth\, activists\, and all those interested in the political side of Pride(s) and LGBTIQ+ Human Rights Struggles in Slovenia and across the world. \nWe know that being an openly LGBTIQ+ person and walking down any public space is a political act\, and we know it is not easy – so we want to create a safe(r) space for all LGBTIQ+ people and a place of empowerment.
URL:https://ljubljanapride.org/en/event/protest-v-karanteni-3-del/
ATTACH;FMTTYPE=image/jpeg:https://ljubljanapride.org/wp-content/uploads/2020/05/Protest-v-karanteni-Idahobit.jpg
ORGANIZER;CN="Dru%C5%A1tvo Parada ponosa":MAILTO:info@ljubljanapride.org
END:VEVENT
END:VCALENDAR