BEGIN:VCALENDAR
VERSION:2.0
PRODID:-//Društvo Parada Ponosa - ECPv6.15.17.1//NONSGML v1.0//EN
CALSCALE:GREGORIAN
METHOD:PUBLISH
X-WR-CALNAME:Društvo Parada Ponosa
X-ORIGINAL-URL:https://ljubljanapride.org/en/
X-WR-CALDESC:Events for Društvo Parada Ponosa
REFRESH-INTERVAL;VALUE=DURATION:PT1H
X-Robots-Tag:noindex
X-PUBLISHED-TTL:PT1H
BEGIN:VTIMEZONE
TZID:Europe/Helsinki
BEGIN:DAYLIGHT
TZOFFSETFROM:+0200
TZOFFSETTO:+0300
TZNAME:EEST
DTSTART:20190331T010000
END:DAYLIGHT
BEGIN:STANDARD
TZOFFSETFROM:+0300
TZOFFSETTO:+0200
TZNAME:EET
DTSTART:20191027T010000
END:STANDARD
BEGIN:DAYLIGHT
TZOFFSETFROM:+0200
TZOFFSETTO:+0300
TZNAME:EEST
DTSTART:20200329T010000
END:DAYLIGHT
BEGIN:STANDARD
TZOFFSETFROM:+0300
TZOFFSETTO:+0200
TZNAME:EET
DTSTART:20201025T010000
END:STANDARD
BEGIN:DAYLIGHT
TZOFFSETFROM:+0200
TZOFFSETTO:+0300
TZNAME:EEST
DTSTART:20210328T010000
END:DAYLIGHT
BEGIN:STANDARD
TZOFFSETFROM:+0300
TZOFFSETTO:+0200
TZNAME:EET
DTSTART:20211031T010000
END:STANDARD
END:VTIMEZONE
BEGIN:VEVENT
DTSTART;TZID=Europe/Helsinki:20200919T190000
DTEND;TZID=Europe/Helsinki:20200919T210000
DTSTAMP:20260425T122838
CREATED:20200901T114659Z
LAST-MODIFIED:20200901T114824Z
UID:3900-1600542000-1600549200@ljubljanapride.org
SUMMARY:Queer café: Season opening
DESCRIPTION:Organised by: DIC Legebitra and Klub Tiffany (ŠKUC – Kulturni center Q) \nLanguage: Slovene \n  \nYou are invited to the season opening of the Queer café evenings. The central event of the night is entitled the Golden Tiffany awards Green Room. In addition to the main event\, you will be able to listen to several music performances. This time we will host the well-known musician of the LGBT+ scene – Filip Vurnik. Maybe another band will join us. Stay tuned for more information! \n* \nWe will host some of the past Golden Tiffany award winners and the current nominees.We will delve into the history and creation of awards that have marked the LGBT + community in recent years and commemorated each year’s individuals\, groups\, initiatives and achievements that have marked our LGBT + community. Golden Tiffany awards\, which will be awarded for the eighth year in a row this year\, are unique awards for the achievements of people who marked our LGBT + scene in 2019. The nominees for Golden Tiffany awards have really spiced up the LGBT+ events  in the past year with their unique qualities. \n* \nFilip Vurnik (1994) has been actively playing music and writing poetry for more than ten years. They are currently finishing their master’s studies at the Department of Fine Art Education\, Faculty of Education\, University of Ljubljana. They taught themselves to play the guitar at the age of 16\, then accompanied the youth choir Na_Vdih between 2013 and 2015 to practice. The first time they played their own songs was at their art exhibition Čudeži (Miracles) in Radovljica in 2013\, while they held their first concert in the 2015 series of Kavarniški večeri. Since then\, they have regularly been performing on similar events and on the LGBT scene. They describe their songs as realistic\, reflecting their current feelings\, pain\, happiness\, transgenderness\, and love. Similar topics are also featured in their poetry and art. \n* \n  \nYou are invited to join us in the garden of the Club Tiffany on Thursday\, September 17th\, 2020 from 7 pm to 9 pm. As always\, we will be waiting for you with coffee\, tea and snacks. \n________ \nIMPORTANT: Only come to the summer garden if you are healthy\, have no symptoms of the new coronavirus infection and have not been at risk of becoming infected with the new coronavirus. You need a mask to enter the enclosed spaces and disinfect your hands before entering. Follow the NIJZ recommendations available at:  \nhttps://www.nijz.si/sl/preprecevanje-okuzbe-z-virusom-sars-cov-2019 https://www.nijz.si/sites/www.nijz.si/files/uploaded/priporocila_organizatorje_prireditev_za_preprecevanje_sirjenja_okuzbe_z_virusom_sars-cov-2.pdf  \n_____________________________ \nThe Oueer café evenings were created with the aim of opening a public space to LGBTQ+ artists in all fields of art and with the desire to create a new space for socializing\, enjoying music\, a cup of tea or coffee\, laughter and good company at the initiative of the Appareo Association\, Club Tiffany and Legebitra \nThe purpose of the project is to offer young artists a space in which they can shine with their talent and at the same time offer viewers content that is relaxed\, high quality and ours. Every third Thursday of the month\, Klub Tiffany transforms into an elegant café\, which invites you to socialize\, enjoy your favorite drink and indulge in an art program prepared by young people for visitors. \nIf you\, as an LGBTQ + creator\, find yourself in this description and would like to present yourself to a wider audience with your artistic work (of any kind)\, we invite you to contact us at katja.sesek@legebitra.si or kulturnicenterq@gmail.com and we can create a wonderful evening together. \nThe Queer café evening is organized by Legebitra and Club Tiffany (ŠKUC – Cultural Center Q).
URL:https://ljubljanapride.org/en/event/queer-cafe-season-opening/
LOCATION:Klub Tiffany\, Masarykova 24\, 1000 Ljubljana
ATTACH;FMTTYPE=image/jpeg:https://ljubljanapride.org/wp-content/uploads/2020/09/118158441_3394741193897619_8939055411540690086_n-Small.jpg
END:VEVENT
END:VCALENDAR