BEGIN:VCALENDAR
VERSION:2.0
PRODID:-//Društvo Parada Ponosa - ECPv6.15.17.1//NONSGML v1.0//EN
CALSCALE:GREGORIAN
METHOD:PUBLISH
X-WR-CALNAME:Društvo Parada Ponosa
X-ORIGINAL-URL:https://ljubljanapride.org/en/
X-WR-CALDESC:Events for Društvo Parada Ponosa
REFRESH-INTERVAL;VALUE=DURATION:PT1H
X-Robots-Tag:noindex
X-PUBLISHED-TTL:PT1H
BEGIN:VTIMEZONE
TZID:Europe/Helsinki
BEGIN:DAYLIGHT
TZOFFSETFROM:+0200
TZOFFSETTO:+0300
TZNAME:EEST
DTSTART:20180325T010000
END:DAYLIGHT
BEGIN:STANDARD
TZOFFSETFROM:+0300
TZOFFSETTO:+0200
TZNAME:EET
DTSTART:20181028T010000
END:STANDARD
BEGIN:DAYLIGHT
TZOFFSETFROM:+0200
TZOFFSETTO:+0300
TZNAME:EEST
DTSTART:20190331T010000
END:DAYLIGHT
BEGIN:STANDARD
TZOFFSETFROM:+0300
TZOFFSETTO:+0200
TZNAME:EET
DTSTART:20191027T010000
END:STANDARD
BEGIN:DAYLIGHT
TZOFFSETFROM:+0200
TZOFFSETTO:+0300
TZNAME:EEST
DTSTART:20200329T010000
END:DAYLIGHT
BEGIN:STANDARD
TZOFFSETFROM:+0300
TZOFFSETTO:+0200
TZNAME:EET
DTSTART:20201025T010000
END:STANDARD
END:VTIMEZONE
BEGIN:VEVENT
DTSTART;TZID=Europe/Helsinki:20190621T100000
DTEND;TZID=Europe/Helsinki:20190621T170000
DTSTAMP:20260426T053334
CREATED:20190603T183942Z
LAST-MODIFIED:20190603T183942Z
UID:2460-1561111200-1561136400@ljubljanapride.org
SUMMARY:Rainbow in the pocket
DESCRIPTION:Rainbow in the pocket is a new manual for affirmative strategies of addressing LGBTIQ+ topics through art. The manual is comprised of an extensive theoretical introduction and 8 animated workshops that address different aspects of LGBTIQ+ topics\, ranging from basic terminology to discrimination and violence. The authors and trainers will present the manual and demonstrate the workshops. The seminar will be conducted by Katja Sešek\, social worker; Laura Pihlar\, teacher of special and rehabilitative pedagogy; and Filip Vurnik\, an art pedagogue. The event is a part of the Erasmus+ strategic partnership\, Perform 2 Reform\, and will be partially in English and partially in Slovene.
URL:https://ljubljanapride.org/en/event/rainbow-in-the-pocket/
LOCATION:Študentski kampus\, Pivovarniška ulica 6\, Ljubljana\, 1000\, Slovenija
ATTACH;FMTTYPE=image/png:https://ljubljanapride.org/wp-content/uploads/2019/06/21.6._Mavrica-v-žepu-Medium.png
END:VEVENT
END:VCALENDAR