BEGIN:VCALENDAR
VERSION:2.0
PRODID:-//Društvo Parada Ponosa - ECPv6.15.17.1//NONSGML v1.0//EN
CALSCALE:GREGORIAN
METHOD:PUBLISH
X-WR-CALNAME:Društvo Parada Ponosa
X-ORIGINAL-URL:https://ljubljanapride.org/en/
X-WR-CALDESC:Events for Društvo Parada Ponosa
REFRESH-INTERVAL;VALUE=DURATION:PT1H
X-Robots-Tag:noindex
X-PUBLISHED-TTL:PT1H
BEGIN:VTIMEZONE
TZID:Europe/Ljubljana
BEGIN:DAYLIGHT
TZOFFSETFROM:+0100
TZOFFSETTO:+0200
TZNAME:CEST
DTSTART:20220327T010000
END:DAYLIGHT
BEGIN:STANDARD
TZOFFSETFROM:+0200
TZOFFSETTO:+0100
TZNAME:CET
DTSTART:20221030T010000
END:STANDARD
BEGIN:DAYLIGHT
TZOFFSETFROM:+0100
TZOFFSETTO:+0200
TZNAME:CEST
DTSTART:20230326T010000
END:DAYLIGHT
BEGIN:STANDARD
TZOFFSETFROM:+0200
TZOFFSETTO:+0100
TZNAME:CET
DTSTART:20231029T010000
END:STANDARD
BEGIN:DAYLIGHT
TZOFFSETFROM:+0100
TZOFFSETTO:+0200
TZNAME:CEST
DTSTART:20240331T010000
END:DAYLIGHT
BEGIN:STANDARD
TZOFFSETFROM:+0200
TZOFFSETTO:+0100
TZNAME:CET
DTSTART:20241027T010000
END:STANDARD
END:VTIMEZONE
BEGIN:VEVENT
DTSTART;TZID=Europe/Ljubljana:20230414T160000
DTEND;TZID=Europe/Ljubljana:20230414T190000
DTSTAMP:20260421T045543
CREATED:20230404T110320Z
LAST-MODIFIED:20230404T110320Z
UID:7687-1681488000-1681498800@ljubljanapride.org
SUMMARY:Še 64 dni do Parade!
DESCRIPTION:Na dan 14. 4. 2023 nas bo do letošnje ljubljanske Parade ponosa ločilo le še 64 dni!\n\nVečini udeleženk_cev Parade ponosa 2023 se to verjetno zdi absolutno preveliko število dni\, ki jih loči do največjega skupnostnega dogodka v Sloveniji. Ekipi\, ki organizira Festival Parada ponosa 2023\, pa je to obdobje ravno pravšnja kombinacija navdušenja in panike\, predvsem pa ključni čas priprav.\n\nNa pomladno paradno druženje vabimo razširjeno festivalsko ekipo – vsako entuziastično bitje\, ki nam (tudi) letos želi pomagati izpeljati največji LGBTIQ+ festival v Sloveniji. Na dogodku si bomo predstavile_i program festivala\, se spoznale_i\, podružile_i in si dale_i motivacijo ter inspiracijo za ključna dva meseca priprav pred začetkom festivala.\n\nTa dogodek je vabilo tudi za vse\, ki še niste del paradne ekipe\, vendar si to želite postati. Zato na pijačo in prigrizek posebej lepo vabimo vse\, ki vas zanima prostovoljenje na letošnjem festivalu in Paradi ponosa v Ljubljani.\n\nHvaležne_i bomo\, če se na dogodek najavite s sporočilom na info@ljubljanapride.org\, da vemo\, koliko slanih palčk nabaviti. Če pa vas k nam zanese v zadnjem trenutku ter nepredvideno\, vas vseeno veselo sprejmemo medse.\n\nParadni ekipi bomo nazdravile_i med 16. in 19. uro\, na Dunajski 10 – v štabu Društva Parada ponosa. Naš vhod je na Dunajski cesti 10\, zraven Gospodarskega razstavišča. V primeru izgubljenosti bomo na voljo na 040 773 586. Lokacija je dostopna za osebe\, ki uporabljajo voziček. V času dogodka lahko nudimo parkirišče za osebe\, ki pridejo z avtom.\nSe vidimo\, ekipa!
URL:https://ljubljanapride.org/en/event/se-64-dni-do-parade/
LOCATION:Društvo Parada ponosa\, Dunajska cesta 10
ATTACH;FMTTYPE=image/jpeg:https://ljubljanapride.org/wp-content/uploads/2023/04/Se-64-dni-do-parade-2023-scaled.jpg
END:VEVENT
END:VCALENDAR