BEGIN:VCALENDAR
VERSION:2.0
PRODID:-//Društvo Parada Ponosa - ECPv6.15.17.1//NONSGML v1.0//EN
CALSCALE:GREGORIAN
METHOD:PUBLISH
X-WR-CALNAME:Društvo Parada Ponosa
X-ORIGINAL-URL:https://ljubljanapride.org/en/
X-WR-CALDESC:Events for Društvo Parada Ponosa
REFRESH-INTERVAL;VALUE=DURATION:PT1H
X-Robots-Tag:noindex
X-PUBLISHED-TTL:PT1H
BEGIN:VTIMEZONE
TZID:Europe/Helsinki
BEGIN:DAYLIGHT
TZOFFSETFROM:+0200
TZOFFSETTO:+0300
TZNAME:EEST
DTSTART:20190331T010000
END:DAYLIGHT
BEGIN:STANDARD
TZOFFSETFROM:+0300
TZOFFSETTO:+0200
TZNAME:EET
DTSTART:20191027T010000
END:STANDARD
BEGIN:DAYLIGHT
TZOFFSETFROM:+0200
TZOFFSETTO:+0300
TZNAME:EEST
DTSTART:20200329T010000
END:DAYLIGHT
BEGIN:STANDARD
TZOFFSETFROM:+0300
TZOFFSETTO:+0200
TZNAME:EET
DTSTART:20201025T010000
END:STANDARD
BEGIN:DAYLIGHT
TZOFFSETFROM:+0200
TZOFFSETTO:+0300
TZNAME:EEST
DTSTART:20210328T010000
END:DAYLIGHT
BEGIN:STANDARD
TZOFFSETFROM:+0300
TZOFFSETTO:+0200
TZNAME:EET
DTSTART:20211031T010000
END:STANDARD
END:VTIMEZONE
BEGIN:VEVENT
DTSTART;TZID=Europe/Helsinki:20200319T190000
DTEND;TZID=Europe/Helsinki:20200319T203000
DTSTAMP:20260424T160954
CREATED:20200310T102114Z
LAST-MODIFIED:20200310T102953Z
UID:3472-1584644400-1584649800@ljubljanapride.org
SUMMARY:Volunteer Fundraising Team Meeting
DESCRIPTION:►Would you like to volunteer at the Pride Parade Festival 2020?\n►Are you interested in seeing behind the scenes of the most visible LGBTIQ+ event in Slovenia?\n►Are you interested in fundraising and/or event management? \nWe will be organising different types of fundraisers and events such as concerts\, parties\, performances\, exhibitions\, brunches\, etc. and so we will be needing your help with gathering ideas for the program\, searching for locations and performances. \n????? ???? ??????? ??? ???????? ??????????:\nyou maybe responsible for communication between everyone involved\, promotion\, distributing flyers and posters\, creating the scene and decorations\, gathering food donations and preparing food\,. During the event you will be preparing the space\, moderating\, performing\, gathering money donations\, and photographing. After it ends you will be cleaning\, counting the money\, editing photos\, and more. You can get involved with all phases of event organisation so if you are interested in this area this is a great opportunity for you to learn and help Ljubljana Pride Association at the same time. \n?Of course\, if you have any creative suggestions of your own\, we’ll be happy to hear them too. 🙂 ? \nIf your answer is yes\, we are inviting you to the first meeting which will take place on Thursday 19th of March at 7pm in Ljubljana Pride office\, Dunajska 10 in Ljubljana. \nAt the coordination meeting\, we will get to know each other\, present the volunteering possibilities\, present the coordinators of fundraising and the volunteering mentor and already start planning the next steps 🙂 Last but not least\, we will give you an insight on this year’s theme and programme of the festival. \nVolunteering will take place in Ljubljana between March and June 2019. \nP.S. Stay tuned for the other volunteering possibilities! \nAPPLY HERE! ?️ \nFor any questions\, feel free to contact us on info@ljubljanapride.org or 040 366 070 (Mateja).
URL:https://ljubljanapride.org/en/event/sestanek-prostovoljk_cev-fundraising-ekipe/
LOCATION:Društvo Parada ponosa\, Dunajska cesta 10\, Ljubljana
ATTACH;FMTTYPE=image/jpeg:https://ljubljanapride.org/wp-content/uploads/2020/03/1.-sestanek-FUNDRAISING-prostovoljkcev_fb-event-cover-scaled.jpg
ORGANIZER;CN="Dru%C5%A1tvo Parada ponosa":MAILTO:info@ljubljanapride.org
END:VEVENT
END:VCALENDAR