BEGIN:VCALENDAR
VERSION:2.0
PRODID:-//Društvo Parada Ponosa - ECPv6.15.17.1//NONSGML v1.0//EN
CALSCALE:GREGORIAN
METHOD:PUBLISH
X-WR-CALNAME:Društvo Parada Ponosa
X-ORIGINAL-URL:https://ljubljanapride.org/en/
X-WR-CALDESC:Events for Društvo Parada Ponosa
REFRESH-INTERVAL;VALUE=DURATION:PT1H
X-Robots-Tag:noindex
X-PUBLISHED-TTL:PT1H
BEGIN:VTIMEZONE
TZID:Europe/Ljubljana
BEGIN:DAYLIGHT
TZOFFSETFROM:+0100
TZOFFSETTO:+0200
TZNAME:CEST
DTSTART:20220327T010000
END:DAYLIGHT
BEGIN:STANDARD
TZOFFSETFROM:+0200
TZOFFSETTO:+0100
TZNAME:CET
DTSTART:20221030T010000
END:STANDARD
BEGIN:DAYLIGHT
TZOFFSETFROM:+0100
TZOFFSETTO:+0200
TZNAME:CEST
DTSTART:20230326T010000
END:DAYLIGHT
BEGIN:STANDARD
TZOFFSETFROM:+0200
TZOFFSETTO:+0100
TZNAME:CET
DTSTART:20231029T010000
END:STANDARD
BEGIN:DAYLIGHT
TZOFFSETFROM:+0100
TZOFFSETTO:+0200
TZNAME:CEST
DTSTART:20240331T010000
END:DAYLIGHT
BEGIN:STANDARD
TZOFFSETFROM:+0200
TZOFFSETTO:+0100
TZNAME:CET
DTSTART:20241027T010000
END:STANDARD
END:VTIMEZONE
BEGIN:VEVENT
DTSTART;TZID=Europe/Ljubljana:20230403T170000
DTEND;TZID=Europe/Ljubljana:20230403T200000
DTSTAMP:20260421T063325
CREATED:20230328T111553Z
LAST-MODIFIED:20230328T111706Z
UID:7520-1680541200-1680552000@ljubljanapride.org
SUMMARY:SQVOT living room: Easter Treasure Hunt
DESCRIPTION:Hey! \nWe found inspiration for our next SQVOT Living Room in the old Slovenian tradition of Gregorjevo. Join us for a fun event about anything “love”! We will talk about love\, the difference between love and being in love and how it affects the body. We will also make love-inspired origami and boats inspired by the tradition of Gregorjevo.‌ \nJoin us on Monday\, 20 March 2023\, at Klub Monokel on Metelkova\, where you will explore the many facets of love and have fun doing it. \nSee you there! \nThe Living Room opens its doors every second Monday at the Monokel club in Ljubljana’s Metelkova district\, where we hang out between 5 and 8 pm. At every meeting there is a person from the SQVOT programme\, who makes the room even safer and has a lot of information about the programme and the services we offer. \nSQVOT Living Room is a place for every young LGBTIQ+ person\, who: \n\nyearns for community!\nwants to address different topics\, spend time among cool folk and meet new friends!\nmisses a safe space where they can spend their free time!\nwants a place to talk about housing exclusion\, mental health\, life and anything else that interests them.\n\nThe event is financed by the European Union.
URL:https://ljubljanapride.org/en/event/sqvot-dnevna-easter-treasure-hunt/
LOCATION:Klub Monokel\, Metelkova mesto
ATTACH;FMTTYPE=image/jpeg:https://ljubljanapride.org/wp-content/uploads/2023/03/SQVot-dnevna_3.-4._Ig-scaled.jpg
END:VEVENT
END:VCALENDAR