BEGIN:VCALENDAR
VERSION:2.0
PRODID:-//Društvo Parada Ponosa - ECPv6.15.17.1//NONSGML v1.0//EN
CALSCALE:GREGORIAN
METHOD:PUBLISH
X-WR-CALNAME:Društvo Parada Ponosa
X-ORIGINAL-URL:https://ljubljanapride.org/en/
X-WR-CALDESC:Events for Društvo Parada Ponosa
REFRESH-INTERVAL;VALUE=DURATION:PT1H
X-Robots-Tag:noindex
X-PUBLISHED-TTL:PT1H
BEGIN:VTIMEZONE
TZID:Europe/Ljubljana
BEGIN:DAYLIGHT
TZOFFSETFROM:+0100
TZOFFSETTO:+0200
TZNAME:CEST
DTSTART:20220327T010000
END:DAYLIGHT
BEGIN:STANDARD
TZOFFSETFROM:+0200
TZOFFSETTO:+0100
TZNAME:CET
DTSTART:20221030T010000
END:STANDARD
BEGIN:DAYLIGHT
TZOFFSETFROM:+0100
TZOFFSETTO:+0200
TZNAME:CEST
DTSTART:20230326T010000
END:DAYLIGHT
BEGIN:STANDARD
TZOFFSETFROM:+0200
TZOFFSETTO:+0100
TZNAME:CET
DTSTART:20231029T010000
END:STANDARD
BEGIN:DAYLIGHT
TZOFFSETFROM:+0100
TZOFFSETTO:+0200
TZNAME:CEST
DTSTART:20240331T010000
END:DAYLIGHT
BEGIN:STANDARD
TZOFFSETFROM:+0200
TZOFFSETTO:+0100
TZNAME:CET
DTSTART:20241027T010000
END:STANDARD
END:VTIMEZONE
BEGIN:VEVENT
DTSTART;TZID=Europe/Ljubljana:20230417T170000
DTEND;TZID=Europe/Ljubljana:20230417T200000
DTSTAMP:20260421T031307
CREATED:20230406T133425Z
LAST-MODIFIED:20230406T133630Z
UID:7693-1681750800-1681761600@ljubljanapride.org
SUMMARY:SQVOT Living Room: Paint and Plant
DESCRIPTION:Hey! \n‌In the next SQVOT Living Room\, we will try out our skills as gardeners! 🧑‍🌾 Spring is waking up and we will use this time to plant and sow our own plants. 🌱 We will also paint and decorate flower pots. 🪴 \n‌We will try to provide as many pots as possible for decorating\, but we recommend that you bring some of your own just in case. \n‌If you also can’t wait to get your hands dirty\, join us for our next SQVOT Living Room on Monday\, 17 April 2023\, between 5 and 8pm at Monokel in Metelkova. \nSee you there! \n___ \nThe Living Room opens its doors every second Monday at the Monokel club in Ljubljana’s Metelkova district\, where we hang out between 5 and 8 pm. At every meeting there is a person from the SQVOT programme\, who makes the room even safer and has a lot of information about the programme and the services we offer. \nSQVOT Living Room is a place for every young LGBTIQ+ person\, who: \n\nyearns for community!\nwants to address different topics\, spend time among cool folk and meet new friends!\nmisses a safe space where they can spend their free time!\nwants a place to talk about housing exclusion\, mental health\, life and anything else that interests them.\n\nThe event is financed by the European Union.
URL:https://ljubljanapride.org/en/event/sqvot-dnevna-paint-and-plant/
LOCATION:Klub Monokel\, Metelkova mesto
ATTACH;FMTTYPE=image/jpeg:https://ljubljanapride.org/wp-content/uploads/2023/04/SQVot-dnevna_17.-4._Ig-scaled.jpg
END:VEVENT
END:VCALENDAR