BEGIN:VCALENDAR
VERSION:2.0
PRODID:-//Društvo Parada Ponosa - ECPv6.15.17.1//NONSGML v1.0//EN
CALSCALE:GREGORIAN
METHOD:PUBLISH
X-WR-CALNAME:Društvo Parada Ponosa
X-ORIGINAL-URL:https://ljubljanapride.org/en/
X-WR-CALDESC:Events for Društvo Parada Ponosa
REFRESH-INTERVAL;VALUE=DURATION:PT1H
X-Robots-Tag:noindex
X-PUBLISHED-TTL:PT1H
BEGIN:VTIMEZONE
TZID:Europe/Ljubljana
BEGIN:DAYLIGHT
TZOFFSETFROM:+0100
TZOFFSETTO:+0200
TZNAME:CEST
DTSTART:20210328T010000
END:DAYLIGHT
BEGIN:STANDARD
TZOFFSETFROM:+0200
TZOFFSETTO:+0100
TZNAME:CET
DTSTART:20211031T010000
END:STANDARD
BEGIN:DAYLIGHT
TZOFFSETFROM:+0100
TZOFFSETTO:+0200
TZNAME:CEST
DTSTART:20220327T010000
END:DAYLIGHT
BEGIN:STANDARD
TZOFFSETFROM:+0200
TZOFFSETTO:+0100
TZNAME:CET
DTSTART:20221030T010000
END:STANDARD
BEGIN:DAYLIGHT
TZOFFSETFROM:+0100
TZOFFSETTO:+0200
TZNAME:CEST
DTSTART:20230326T010000
END:DAYLIGHT
BEGIN:STANDARD
TZOFFSETFROM:+0200
TZOFFSETTO:+0100
TZNAME:CET
DTSTART:20231029T010000
END:STANDARD
END:VTIMEZONE
BEGIN:VEVENT
DTSTART;TZID=Europe/Ljubljana:20220829T170000
DTEND;TZID=Europe/Ljubljana:20220829T200000
DTSTAMP:20260421T173120
CREATED:20220817T101359Z
LAST-MODIFIED:20220817T101531Z
UID:6408-1661792400-1661803200@ljubljanapride.org
SUMMARY:SQVOT dnevna - slovo poletju
DESCRIPTION:As summer is coming to an end\, we will head to Tivoli Park to share our summer adventures\, make plans for autumn\, play ball games\, listen to music\, and most of all\, socialise and meet new people. Meet at the start of Jakopič’s promenade (link to the location: https://goo.gl/maps/sATEBBzXcbVbPX889)\, then we will find our spot in the park together. See you there! 🙂 \nIn the SQVOT living room\, we do everything you do in a really cool living room! We debate together\, play board games\, create\, chat\, and above all build a community that responds to our needs. The Living Room opens its doors every second Monday at the Monokel club at Metelkova in Ljubljana\, where we meet between 5pm and 8pm. The living room is staffed by a person from the SQVOT programme\, who makes the space even safer and has a lot of information about us and the services we offer.\nThe SQVOT living room is a space for all young LGBTIQ+ people who:\n– We yearn for community!\n– We want to address different topics\, spend our free time among cool folk and meet new friends!\n– We miss a safe haven where we can spend our free time!\n– We are facing housing problems\, want to address mental health problems or want to address our own topics.
URL:https://ljubljanapride.org/en/event/sqvot-dnevna-slovo-poletju/
LOCATION:Park Tivoli
ATTACH;FMTTYPE=image/jpeg:https://ljubljanapride.org/wp-content/uploads/2022/08/29.-8.-ig-2-scaled-e1661247893546.jpg
END:VEVENT
END:VCALENDAR