BEGIN:VCALENDAR
VERSION:2.0
PRODID:-//Društvo Parada Ponosa - ECPv6.15.17.1//NONSGML v1.0//EN
CALSCALE:GREGORIAN
METHOD:PUBLISH
X-WR-CALNAME:Društvo Parada Ponosa
X-ORIGINAL-URL:https://ljubljanapride.org/en/
X-WR-CALDESC:Events for Društvo Parada Ponosa
REFRESH-INTERVAL;VALUE=DURATION:PT1H
X-Robots-Tag:noindex
X-PUBLISHED-TTL:PT1H
BEGIN:VTIMEZONE
TZID:Europe/Ljubljana
BEGIN:DAYLIGHT
TZOFFSETFROM:+0100
TZOFFSETTO:+0200
TZNAME:CEST
DTSTART:20220327T010000
END:DAYLIGHT
BEGIN:STANDARD
TZOFFSETFROM:+0200
TZOFFSETTO:+0100
TZNAME:CET
DTSTART:20221030T010000
END:STANDARD
BEGIN:DAYLIGHT
TZOFFSETFROM:+0100
TZOFFSETTO:+0200
TZNAME:CEST
DTSTART:20230326T010000
END:DAYLIGHT
BEGIN:STANDARD
TZOFFSETFROM:+0200
TZOFFSETTO:+0100
TZNAME:CET
DTSTART:20231029T010000
END:STANDARD
BEGIN:DAYLIGHT
TZOFFSETFROM:+0100
TZOFFSETTO:+0200
TZNAME:CEST
DTSTART:20240331T010000
END:DAYLIGHT
BEGIN:STANDARD
TZOFFSETFROM:+0200
TZOFFSETTO:+0100
TZNAME:CET
DTSTART:20241027T010000
END:STANDARD
END:VTIMEZONE
BEGIN:VEVENT
DTSTART;TZID=Europe/Ljubljana:20230123T170000
DTEND;TZID=Europe/Ljubljana:20230123T200000
DTSTAMP:20260421T210740
CREATED:20230116T094349Z
LAST-MODIFIED:20230116T094536Z
UID:7170-1674493200-1674504000@ljubljanapride.org
SUMMARY:SQVOT dnevna z gostjo: Skrb zase in stres
DESCRIPTION:As they say\, new year – new me and a new wave of events. In the upcoming series\, we will tackle the topic of stress. What is stress? How does it affect me? How do I cope with it? What is the difference between positive and negative stress? Vesna Štefanec\, SQVOT programme manager and counsellor\, will visit us in our living room to give us knowledge on the topic. Then we will learn how to relax with different breathing techniques and meditate with Leonardo\, a volunteer of the SQVOT programme.\nTogether we will create a safer space at the next SQVOT Living Room event on Monday\, 23 January 2023\, from 5pm to 8pm in Klub Monokel at Metelkova. \nSee you there! \nThe Living Room opens its doors every second Monday at the Monokel club in Ljubljana’s Metelkova district\, where we hang out between 5 and 8 pm. At every meeting there is a person from the SQVOT programme\, who makes the room even safer and has a lot of information about the programme and the services we offer. \nSQVOT Living Room is a place for every young LGBTIQ+ person\, who: \n\nyearns for community!\nwants to address different topics\, spend time among cool folk and meet new friends!\nmisses a safe space where they can spend their free time!\nwants a place to talk about housing exclusion\, mental health\, life and anything else that interests them.\n\nThe event is financed by the European Union.
URL:https://ljubljanapride.org/en/event/sqvot-dnevna-z-gostjo-skrb-zase-in-stres/
LOCATION:Klub Monokel\, Metelkova mesto
ATTACH;FMTTYPE=image/png:https://ljubljanapride.org/wp-content/uploads/2023/01/SQVot-dnevna_stres-e1673862182283.png
END:VEVENT
END:VCALENDAR