BEGIN:VCALENDAR
VERSION:2.0
PRODID:-//Društvo Parada Ponosa - ECPv6.15.17.1//NONSGML v1.0//EN
CALSCALE:GREGORIAN
METHOD:PUBLISH
X-WR-CALNAME:Društvo Parada Ponosa
X-ORIGINAL-URL:https://ljubljanapride.org/en/
X-WR-CALDESC:Events for Društvo Parada Ponosa
REFRESH-INTERVAL;VALUE=DURATION:PT1H
X-Robots-Tag:noindex
X-PUBLISHED-TTL:PT1H
BEGIN:VTIMEZONE
TZID:Europe/Ljubljana
BEGIN:DAYLIGHT
TZOFFSETFROM:+0100
TZOFFSETTO:+0200
TZNAME:CEST
DTSTART:20220327T010000
END:DAYLIGHT
BEGIN:STANDARD
TZOFFSETFROM:+0200
TZOFFSETTO:+0100
TZNAME:CET
DTSTART:20221030T010000
END:STANDARD
BEGIN:DAYLIGHT
TZOFFSETFROM:+0100
TZOFFSETTO:+0200
TZNAME:CEST
DTSTART:20230326T010000
END:DAYLIGHT
BEGIN:STANDARD
TZOFFSETFROM:+0200
TZOFFSETTO:+0100
TZNAME:CET
DTSTART:20231029T010000
END:STANDARD
BEGIN:DAYLIGHT
TZOFFSETFROM:+0100
TZOFFSETTO:+0200
TZNAME:CEST
DTSTART:20240331T010000
END:DAYLIGHT
BEGIN:STANDARD
TZOFFSETFROM:+0200
TZOFFSETTO:+0100
TZNAME:CET
DTSTART:20241027T010000
END:STANDARD
END:VTIMEZONE
BEGIN:VEVENT
DTSTART;TZID=Europe/Ljubljana:20230306T170000
DTEND;TZID=Europe/Ljubljana:20230306T200000
DTSTAMP:20260421T112621
CREATED:20230214T094437Z
LAST-MODIFIED:20230214T130624Z
UID:7414-1678122000-1678132800@ljubljanapride.org
SUMMARY:SQVOT living room: International women's day
DESCRIPTION:Hey! \nIn the light of International Women’s Day\, we have decided to dedicate the next SQVOT Living Room to all women\, including lesbians\, including bisexuals\, including trans women\, including non-binary people\, and all those fierce women\, who\, through their non-normativity\, activism and hard work yesterday\, have made today a better place. Instead of flowers\, the Fierce Women card game! \nJoin us on Monday\, 6 March 2023\, between 5 and 8 pm at Klub Monokel on Metelkova. \nSee you there! \nThe Living Room opens its doors every second Monday at the Monokel club in Ljubljana’s Metelkova district\, where we hang out between 5 and 8 pm. At every meeting there is a person from the SQVOT programme\, who makes the room even safer and has a lot of information about the programme and the services we offer. \nSQVOT Living Room is a place for every young LGBTIQ+ person\, who: \n\nyearns for community!\nwants to address different topics\, spend time among cool folk and meet new friends!\nmisses a safe space where they can spend their free time!\nwants a place to talk about housing exclusion\, mental health\, life and anything else that interests them.\n\nThe event is financed by the European Union.
URL:https://ljubljanapride.org/en/event/sqvot-living-room-international-womens-day/
LOCATION:Klub Monokel\, Metelkova mesto
ATTACH;FMTTYPE=image/jpeg:https://ljubljanapride.org/wp-content/uploads/2023/02/SQVot-dnevna_6.3._tabla-scaled.jpg
END:VEVENT
END:VCALENDAR