BEGIN:VCALENDAR
VERSION:2.0
PRODID:-//Društvo Parada Ponosa - ECPv6.15.17.1//NONSGML v1.0//EN
CALSCALE:GREGORIAN
METHOD:PUBLISH
X-WR-CALNAME:Društvo Parada Ponosa
X-ORIGINAL-URL:https://ljubljanapride.org/en/
X-WR-CALDESC:Events for Društvo Parada Ponosa
REFRESH-INTERVAL;VALUE=DURATION:PT1H
X-Robots-Tag:noindex
X-PUBLISHED-TTL:PT1H
BEGIN:VTIMEZONE
TZID:Europe/Ljubljana
BEGIN:DAYLIGHT
TZOFFSETFROM:+0100
TZOFFSETTO:+0200
TZNAME:CEST
DTSTART:20210328T010000
END:DAYLIGHT
BEGIN:STANDARD
TZOFFSETFROM:+0200
TZOFFSETTO:+0100
TZNAME:CET
DTSTART:20211031T010000
END:STANDARD
BEGIN:DAYLIGHT
TZOFFSETFROM:+0100
TZOFFSETTO:+0200
TZNAME:CEST
DTSTART:20220327T010000
END:DAYLIGHT
BEGIN:STANDARD
TZOFFSETFROM:+0200
TZOFFSETTO:+0100
TZNAME:CET
DTSTART:20221030T010000
END:STANDARD
BEGIN:DAYLIGHT
TZOFFSETFROM:+0100
TZOFFSETTO:+0200
TZNAME:CEST
DTSTART:20230326T010000
END:DAYLIGHT
BEGIN:STANDARD
TZOFFSETFROM:+0200
TZOFFSETTO:+0100
TZNAME:CET
DTSTART:20231029T010000
END:STANDARD
END:VTIMEZONE
BEGIN:VEVENT
DTSTART;TZID=Europe/Ljubljana:20220927T183000
DTEND;TZID=Europe/Ljubljana:20220927T200000
DTSTAMP:20260421T175014
CREATED:20220909T091937Z
LAST-MODIFIED:20220909T091937Z
UID:7007-1664303400-1664308800@ljubljanapride.org
SUMMARY:Srečanje za prostovoljke_ce!
DESCRIPTION:Kdaj in kje: 27. 9. 2022 od 18.30 – 20.00 ure v Pritličju (poteka takoj za dogodkom Pejte na tote lokalne volitve!) \nVabimo te na SREČANJE ZA PROSTOVOLJKE_CE in podelitev zahval za prostovoljsko delo v sklopu Festivala Parada ponosa 2022.\nSrečanje bo potekalo v torek\, 28. septembra 2022 od 18.30 ure v Pritličju. \nVeselile_i bi se srečanja s tabo\, saj smo s pomočjo tvoje energije in predanosti uspešno izpeljale_i Parado ponosa in pokazale_i\, da je napočil čas za MAVRIČNI GLAS! Hvala za tvojo prisotnost\, prizadevnost\, znanje\, spretnosti in dobro družbo ter upamo\, da te vidimo na Srečanju za prostovoljke_ce! \nPRAV TAKO pa si vabljen_a\, da se nam pred Srečanjem za prostovoljke_ce pridružiš še na dogodku: “Pejte na tote lokalne volitve!”\, ki bo potekal od 17.00 do 18.30 ure\, prav tako v Pritličju. V kolikor pa bi rad_a z nami podelil_a še svoja pričakovanja do lokalnih volitev\, ki bodo osnova za skupinsko delo na dogodku\, vabljen_a da izpolniš VPRAŠALNIK.
URL:https://ljubljanapride.org/en/event/srecanje-za-prostovoljke_ce/
LOCATION:Pritličje (Mestni trg 2\, Ljubljana)\, Mestni trg 2\, Ljubljana
ATTACH;FMTTYPE=image/jpeg:https://ljubljanapride.org/wp-content/uploads/2022/09/Srecanje-za-prostovoljke_ce-scaled.jpg
END:VEVENT
END:VCALENDAR