BEGIN:VCALENDAR
VERSION:2.0
PRODID:-//Društvo Parada Ponosa - ECPv6.15.17.1//NONSGML v1.0//EN
CALSCALE:GREGORIAN
METHOD:PUBLISH
X-WR-CALNAME:Društvo Parada Ponosa
X-ORIGINAL-URL:https://ljubljanapride.org/en/
X-WR-CALDESC:Events for Društvo Parada Ponosa
REFRESH-INTERVAL;VALUE=DURATION:PT1H
X-Robots-Tag:noindex
X-PUBLISHED-TTL:PT1H
BEGIN:VTIMEZONE
TZID:Europe/Ljubljana
BEGIN:DAYLIGHT
TZOFFSETFROM:+0100
TZOFFSETTO:+0200
TZNAME:CEST
DTSTART:20210328T010000
END:DAYLIGHT
BEGIN:STANDARD
TZOFFSETFROM:+0200
TZOFFSETTO:+0100
TZNAME:CET
DTSTART:20211031T010000
END:STANDARD
BEGIN:DAYLIGHT
TZOFFSETFROM:+0100
TZOFFSETTO:+0200
TZNAME:CEST
DTSTART:20220327T010000
END:DAYLIGHT
BEGIN:STANDARD
TZOFFSETFROM:+0200
TZOFFSETTO:+0100
TZNAME:CET
DTSTART:20221030T010000
END:STANDARD
BEGIN:DAYLIGHT
TZOFFSETFROM:+0100
TZOFFSETTO:+0200
TZNAME:CEST
DTSTART:20230326T010000
END:DAYLIGHT
BEGIN:STANDARD
TZOFFSETFROM:+0200
TZOFFSETTO:+0100
TZNAME:CET
DTSTART:20231029T010000
END:STANDARD
END:VTIMEZONE
BEGIN:VEVENT
DTSTART;TZID=Europe/Ljubljana:20220813T170000
DTEND;TZID=Europe/Ljubljana:20220813T230000
DTSTAMP:20260421T220558
CREATED:20220801T081258Z
LAST-MODIFIED:20220801T081359Z
UID:5890-1660410000-1660431600@ljubljanapride.org
SUMMARY:Sustainable Pride stall
DESCRIPTION:Come and visit our stall at this years RECIKLART Fair\, where we will sell sustainable products\, that we created with the help of European volunteers in the festival time.\n\nIt will be the last opportunity to get handmade and upcycled items with Pride Festival Logo and Sustainability Logo.\n\nIf its sold out thats it!\n\nSo we invite you to visit the fair and check out some brilliant self made and recycled products from creative minds around Slovenia and Europe.
URL:https://ljubljanapride.org/en/event/sustainable-pride-stall/
LOCATION:Metelkova\, 1000 Ljubljana
ATTACH;FMTTYPE=image/jpeg:https://ljubljanapride.org/wp-content/uploads/2022/08/SP_Stall_IG-scaled.jpg
END:VEVENT
END:VCALENDAR