BEGIN:VCALENDAR
VERSION:2.0
PRODID:-//Društvo Parada Ponosa - ECPv6.15.17.1//NONSGML v1.0//EN
CALSCALE:GREGORIAN
METHOD:PUBLISH
X-WR-CALNAME:Društvo Parada Ponosa
X-ORIGINAL-URL:https://ljubljanapride.org/en/
X-WR-CALDESC:Events for Društvo Parada Ponosa
REFRESH-INTERVAL;VALUE=DURATION:PT1H
X-Robots-Tag:noindex
X-PUBLISHED-TTL:PT1H
BEGIN:VTIMEZONE
TZID:Europe/Ljubljana
BEGIN:DAYLIGHT
TZOFFSETFROM:+0100
TZOFFSETTO:+0200
TZNAME:CEST
DTSTART:20230326T010000
END:DAYLIGHT
BEGIN:STANDARD
TZOFFSETFROM:+0200
TZOFFSETTO:+0100
TZNAME:CET
DTSTART:20231029T010000
END:STANDARD
BEGIN:DAYLIGHT
TZOFFSETFROM:+0100
TZOFFSETTO:+0200
TZNAME:CEST
DTSTART:20240331T010000
END:DAYLIGHT
BEGIN:STANDARD
TZOFFSETFROM:+0200
TZOFFSETTO:+0100
TZNAME:CET
DTSTART:20241027T010000
END:STANDARD
BEGIN:DAYLIGHT
TZOFFSETFROM:+0100
TZOFFSETTO:+0200
TZNAME:CEST
DTSTART:20250330T010000
END:DAYLIGHT
BEGIN:STANDARD
TZOFFSETFROM:+0200
TZOFFSETTO:+0100
TZNAME:CET
DTSTART:20251026T010000
END:STANDARD
END:VTIMEZONE
BEGIN:VEVENT
DTSTART;VALUE=DATE:20240518
DTEND;VALUE=DATE:20240520
DTSTAMP:20260420T090635
CREATED:20240430T112718Z
LAST-MODIFIED:20240513T130516Z
UID:9326-1716019200-1716105599@ljubljanapride.org
SUMMARY:Training on Peer Education
DESCRIPTION:Are you passionate about creating positive change within the LGBTQ+ community?  \n  \nLooking to share knowledge and experience with your queer peers?  \n  \nReady to explore the topics you care about and finding new creative ways how to bring them closer to the queer community?  \n  \nEager to learn more?  \n  \n 🌈 Join Us in Empowering Our Community! 🌟 \n  \nWe are inviting you to join the Training on Peer Education!  \n  \nPeer Education is all about supporting and learning from each other in a safe and non-judgmental environment.  \n  \nAs peer educators\, you’ll have the opportunity to make a difference by sharing experiences\, knowledge\, and interests with your peers. Together\, we can tackle social issues\, promote mental health awareness\, and advocate for LGBTIQ+ rights. \n  \nExcited to get involved? Sign up to our upcoming whole day training on May 18th in Ljubljana!  \n  \nNot from Ljubljana? No worries\, we can reimburse your travel to Ljubljana and back by public transport\, just please mark it in the application form!  \n  \n💬✨ APPLY HERE: https://forms.gle/RiVwCdMwqU12EZXi6 💬✨ \n  \nDuring the education we will present possibilities of cooperation with Ljubljana Pride and participating in different activities – you can see whether you want to join our group or rather explore peer education somewhere else or on your own!  \n  \nAfter the applications deadline (15th of May) you will get an email with last information.  \n  \nIf you have any questions\, please contact us at mateja@ljubljanapride.com. 📨
URL:https://ljubljanapride.org/en/event/trening-za-mavricne-tutorke_je/
ATTACH;FMTTYPE=image/jpeg:https://ljubljanapride.org/wp-content/uploads/2024/04/18.05-Peer-ed-Training-2-1.jpg
END:VEVENT
END:VCALENDAR