BEGIN:VCALENDAR
VERSION:2.0
PRODID:-//Društvo Parada Ponosa - ECPv6.15.17.1//NONSGML v1.0//EN
CALSCALE:GREGORIAN
METHOD:PUBLISH
X-WR-CALNAME:Društvo Parada Ponosa
X-ORIGINAL-URL:https://ljubljanapride.org/en/
X-WR-CALDESC:Events for Društvo Parada Ponosa
REFRESH-INTERVAL;VALUE=DURATION:PT1H
X-Robots-Tag:noindex
X-PUBLISHED-TTL:PT1H
BEGIN:VTIMEZONE
TZID:Europe/Helsinki
BEGIN:DAYLIGHT
TZOFFSETFROM:+0200
TZOFFSETTO:+0300
TZNAME:EEST
DTSTART:20190331T010000
END:DAYLIGHT
BEGIN:STANDARD
TZOFFSETFROM:+0300
TZOFFSETTO:+0200
TZNAME:EET
DTSTART:20191027T010000
END:STANDARD
BEGIN:DAYLIGHT
TZOFFSETFROM:+0200
TZOFFSETTO:+0300
TZNAME:EEST
DTSTART:20200329T010000
END:DAYLIGHT
BEGIN:STANDARD
TZOFFSETFROM:+0300
TZOFFSETTO:+0200
TZNAME:EET
DTSTART:20201025T010000
END:STANDARD
BEGIN:DAYLIGHT
TZOFFSETFROM:+0200
TZOFFSETTO:+0300
TZNAME:EEST
DTSTART:20210328T010000
END:DAYLIGHT
BEGIN:STANDARD
TZOFFSETFROM:+0300
TZOFFSETTO:+0200
TZNAME:EET
DTSTART:20211031T010000
END:STANDARD
END:VTIMEZONE
BEGIN:VEVENT
DTSTART;TZID=Europe/Helsinki:20200917T130000
DTEND;TZID=Europe/Helsinki:20200917T170000
DTSTAMP:20260425T161023
CREATED:20200915T080321Z
LAST-MODIFIED:20200915T080710Z
UID:3998-1600347600-1600362000@ljubljanapride.org
SUMMARY:Workshop: Making Pride banners
DESCRIPTION:Organised by: Ljubljana Pride Association \nMake your own banner! As every year\, this year we invite you to a creative\, productive\, activist spending your afternoon in the company of the Parade team. Come on\, let’s get together for this year’s Pride Parade! \nFrom 1 pm to 5 pm\, painting\, spraying\, gluing\, stapling\, tying\, etc. will take place in a relaxed atmosphere on Metelkova\, in front of and in Monokl … This year’s context of the parade calls for new slogans\, and you will definitely get additional inspiration from other visitors. \nIn preparation for the event\, we follow all NIJZ (National Institute of Public Health) guidelines for ensuring safety\, so we will collect your personal data at the event. All data is collected for the purpose of participation on activities and in accordance with the Government Decree amending the Decree on the temporary general restriction or prohibition of gathering people in the Republic of Slovenia. The selected data will be accessed by the employees of the Pride Parade Association or will be provided to the National Institute of Public Health upon request. 1 month after the activity is performed\, the data is permanently deleted.
URL:https://ljubljanapride.org/en/event/workshop-making-pride-banners/
LOCATION:Metelkova
ATTACH;FMTTYPE=image/png:https://ljubljanapride.org/wp-content/uploads/2020/09/17.9.-izdelovanje-transparentov_fb-event-cover-Small.png
END:VEVENT
END:VCALENDAR