BEGIN:VCALENDAR
VERSION:2.0
PRODID:-//Društvo Parada Ponosa - ECPv6.15.17.1//NONSGML v1.0//EN
CALSCALE:GREGORIAN
METHOD:PUBLISH
X-WR-CALNAME:Društvo Parada Ponosa
X-ORIGINAL-URL:https://ljubljanapride.org/en/
X-WR-CALDESC:Events for Društvo Parada Ponosa
REFRESH-INTERVAL;VALUE=DURATION:PT1H
X-Robots-Tag:noindex
X-PUBLISHED-TTL:PT1H
BEGIN:VTIMEZONE
TZID:Europe/Ljubljana
BEGIN:DAYLIGHT
TZOFFSETFROM:+0100
TZOFFSETTO:+0200
TZNAME:CEST
DTSTART:20240331T010000
END:DAYLIGHT
BEGIN:STANDARD
TZOFFSETFROM:+0200
TZOFFSETTO:+0100
TZNAME:CET
DTSTART:20241027T010000
END:STANDARD
BEGIN:DAYLIGHT
TZOFFSETFROM:+0100
TZOFFSETTO:+0200
TZNAME:CEST
DTSTART:20250330T010000
END:DAYLIGHT
BEGIN:STANDARD
TZOFFSETFROM:+0200
TZOFFSETTO:+0100
TZNAME:CET
DTSTART:20251026T010000
END:STANDARD
BEGIN:DAYLIGHT
TZOFFSETFROM:+0100
TZOFFSETTO:+0200
TZNAME:CEST
DTSTART:20260329T010000
END:DAYLIGHT
BEGIN:STANDARD
TZOFFSETFROM:+0200
TZOFFSETTO:+0100
TZNAME:CET
DTSTART:20261025T010000
END:STANDARD
END:VTIMEZONE
BEGIN:VEVENT
DTSTART;VALUE=DATE:20250310
DTEND;VALUE=DATE:20250318
DTSTAMP:20260422T133056
CREATED:20250109T141409Z
LAST-MODIFIED:20250109T141409Z
UID:9989-1741593600-1742198399@ljubljanapride.org
SUMMARY:YOUTH EXCHANGE: Cybersafe Spaces: Countering Homophobia and Hate Speech Online
DESCRIPTION:We are currently in turbulent times\, we are noticing a new rise of homophobia\, hate speech targeting the gay\, lesbian\, bisexual\, trans* and many more queer communities. There is a lot of negative news\, false news and polarizing discourse regarding the LGBTIQ+ community. To start addressing these topics\, find ways to tackle them and create online spaces that are safe\, transparent and hate-free for our community\, we are planning a youth exchange on Cybersafe Spaces. \nWe are inviting you to apply to a youth exchange in Brežice\, where we will be tackling the following topics: \n\n\n\nUnderstanding polarization and the rise of homophobia on digital platforms\nRaising awareness of misinformation and effective responses\nExploring and building (digital) safe spaces\nStrengthening community resilience in the face of digitalization\n\n\n\nYou will also be able to meet and hang out with other Queer people from our Lithuanian\, Romanian and Slovakian partnering organizations\, make new friends and collaborate on creating your community safer. \nIf you have any questions regarding the exchange\, feel free to reach out on our info mail\, on Instagram or at nika.pongrac@ljubljanapride.org. \nApply here!
URL:https://ljubljanapride.org/en/event/youth-exchange-cybersafe-spaces-countering-homophobia-and-hate-speech-online/
LOCATION:MC Hostel Brežice
ATTACH;FMTTYPE=image/png:https://ljubljanapride.org/wp-content/uploads/2025/01/Screenshot-2025-01-09-150044.png
END:VEVENT
END:VCALENDAR