BEGIN:VCALENDAR
VERSION:2.0
PRODID:-//Društvo Parada Ponosa - ECPv6.15.17.1//NONSGML v1.0//EN
CALSCALE:GREGORIAN
METHOD:PUBLISH
X-WR-CALNAME:Društvo Parada Ponosa
X-ORIGINAL-URL:https://ljubljanapride.org/en/
X-WR-CALDESC:Events for Društvo Parada Ponosa
REFRESH-INTERVAL;VALUE=DURATION:PT1H
X-Robots-Tag:noindex
X-PUBLISHED-TTL:PT1H
BEGIN:VTIMEZONE
TZID:Europe/Ljubljana
BEGIN:DAYLIGHT
TZOFFSETFROM:+0100
TZOFFSETTO:+0200
TZNAME:CEST
DTSTART:20220327T010000
END:DAYLIGHT
BEGIN:STANDARD
TZOFFSETFROM:+0200
TZOFFSETTO:+0100
TZNAME:CET
DTSTART:20221030T010000
END:STANDARD
BEGIN:DAYLIGHT
TZOFFSETFROM:+0100
TZOFFSETTO:+0200
TZNAME:CEST
DTSTART:20230326T010000
END:DAYLIGHT
BEGIN:STANDARD
TZOFFSETFROM:+0200
TZOFFSETTO:+0100
TZNAME:CET
DTSTART:20231029T010000
END:STANDARD
BEGIN:DAYLIGHT
TZOFFSETFROM:+0100
TZOFFSETTO:+0200
TZNAME:CEST
DTSTART:20240331T010000
END:DAYLIGHT
BEGIN:STANDARD
TZOFFSETFROM:+0200
TZOFFSETTO:+0100
TZNAME:CET
DTSTART:20241027T010000
END:STANDARD
END:VTIMEZONE
BEGIN:VEVENT
DTSTART;VALUE=DATE:20230218
DTEND;VALUE=DATE:20230226
DTSTAMP:20260421T172942
CREATED:20230116T120006Z
LAST-MODIFIED:20230116T120125Z
UID:7228-1676707200-1677311999@ljubljanapride.org
SUMMARY:Youth exchange: Storytelling
DESCRIPTION:Ljubljana Pride Association is looking for 5 young Slovene LGBTIQ+ people (aged between 18 and 29 years old) who would like to take part in an international youth exchange from 18th to the 24th of February 2023 in Slovenia. \nThe topic of the youth exchange is storytelling\, meaning participants will learn how to share their story of being a young queer person using different methods\, learn how to present it differently – depending on their audience and purpose\, as well as how to use it for activistic purposes. \nFor those interested\, the possibility of shooting a short video of them sharing their story will be possible.\nThe youth exchange will bring together participants from Slovenia\, North Macedonia\, Spain and Slovakia – it is a great opportunity to make new connections and exchange experiences! \nThe activities will be held in English.\nAccommodation\, food\, travel and programme costs are fully covered. \nThe venue is MC Hostel Brežice.\nIf you are interested\, apply here:  Youth exchange – Storytelling – Call for participants
URL:https://ljubljanapride.org/en/event/youth-exchange-storytelling/
LOCATION:MC Hostel Brežice
ATTACH;FMTTYPE=image/jpeg:https://ljubljanapride.org/wp-content/uploads/2023/01/Storytelling_youth-exchange-scaled.jpg
END:VEVENT
END:VCALENDAR