BEGIN:VCALENDAR
VERSION:2.0
PRODID:-//Društvo Parada Ponosa - ECPv6.15.17.1//NONSGML v1.0//EN
CALSCALE:GREGORIAN
METHOD:PUBLISH
X-WR-CALNAME:Društvo Parada Ponosa
X-ORIGINAL-URL:https://ljubljanapride.org
X-WR-CALDESC:Dogodki za Društvo Parada Ponosa
REFRESH-INTERVAL;VALUE=DURATION:PT1H
X-Robots-Tag:noindex
X-PUBLISHED-TTL:PT1H
BEGIN:VTIMEZONE
TZID:Europe/Ljubljana
BEGIN:DAYLIGHT
TZOFFSETFROM:+0100
TZOFFSETTO:+0200
TZNAME:CEST
DTSTART:20230326T010000
END:DAYLIGHT
BEGIN:STANDARD
TZOFFSETFROM:+0200
TZOFFSETTO:+0100
TZNAME:CET
DTSTART:20231029T010000
END:STANDARD
BEGIN:DAYLIGHT
TZOFFSETFROM:+0100
TZOFFSETTO:+0200
TZNAME:CEST
DTSTART:20240331T010000
END:DAYLIGHT
BEGIN:STANDARD
TZOFFSETFROM:+0200
TZOFFSETTO:+0100
TZNAME:CET
DTSTART:20241027T010000
END:STANDARD
BEGIN:DAYLIGHT
TZOFFSETFROM:+0100
TZOFFSETTO:+0200
TZNAME:CEST
DTSTART:20250330T010000
END:DAYLIGHT
BEGIN:STANDARD
TZOFFSETFROM:+0200
TZOFFSETTO:+0100
TZNAME:CET
DTSTART:20251026T010000
END:STANDARD
END:VTIMEZONE
BEGIN:VEVENT
DTSTART;TZID=Europe/Ljubljana:20240408T100000
DTEND;TZID=Europe/Ljubljana:20240408T180000
DTSTAMP:20260420T222735
CREATED:20240129T093843Z
LAST-MODIFIED:20240129T093843Z
UID:8798-1712570400-1712599200@ljubljanapride.org
SUMMARY:𝗩𝗔𝗕𝗜𝗟𝗢 𝗡𝗔 𝗨𝗦𝗣𝗢𝗦𝗔𝗕𝗟𝗝𝗔𝗡𝗝𝗘 𝗞𝗔𝗧𝗜𝗦 - april 2024
DESCRIPTION:V šolskem letu 2023/2024 izvajamo usposabljanje 𝘚̌𝘰𝘭𝘢\, 𝘬𝘰𝘵 𝘷𝘢𝘳𝘦𝘯 𝘪𝘯 𝘷𝘬𝘭𝘫𝘶𝘤̌𝘶𝘫𝘰𝘤̌ 𝘱𝘳𝘰𝘴𝘵𝘰𝘳 𝘻𝘢 𝘓𝘎𝘉𝘛𝘐𝘘+ 𝘮𝘭𝘢𝘥𝘦\, ki je namenjeno učiteljicam_em v osnovnih in srednjih šolah ter v poklicnem izobraževanju\, strokovnim delavkam_cem na šoli in/ali v svetovalni službi ter ravnateljicam_em. \nUsposabljanje traja 8 ur in udeleženkam_cem prinese 0.5 točke. Udeležba na temu izobraževanju ni brezplačna\, cena je razvidna v katalogu KATIS. \nDruga izvedba bo potekala 8. 4. 2024 med 10to in 18to uro\, na Ptuju (lokacija bo sporočena prijavljenim udeleženkam_cem\, naknadno). \nPrijave so odprte do vključno 25. 3. 2024\, prijavite se preko kataloga KATIS\, ali z emailom na: 𝘬𝘢𝘵𝘫𝘢.𝘴𝘦𝘴𝘦𝘬@𝘭𝘫𝘶𝘣𝘭𝘫𝘢𝘯𝘢𝘱𝘳𝘪𝘥𝘦.𝘰𝘳𝘨/info@𝘭𝘫𝘶𝘣𝘭𝘫𝘢𝘯𝘢𝘱𝘳𝘪𝘥𝘦.𝘰𝘳𝘨 \n  \nPrijava in več informacij: Prijava
URL:https://ljubljanapride.org/event/%f0%9d%97%a9%f0%9d%97%94%f0%9d%97%95%f0%9d%97%9c%f0%9d%97%9f%f0%9d%97%a2-%f0%9d%97%a1%f0%9d%97%94-%f0%9d%97%a8%f0%9d%97%a6%f0%9d%97%a3%f0%9d%97%a2%f0%9d%97%a6%f0%9d%97%94%f0%9d%97%95%f0%9d%97%9f/
LOCATION:ptuj\, Ptuj\, Slovenija
ATTACH;FMTTYPE=image/png:https://ljubljanapride.org/wp-content/uploads/2024/01/kATIS-vkljucujoce-sole_ig.png
END:VEVENT
END:VCALENDAR