BEGIN:VCALENDAR
VERSION:2.0
PRODID:-//Društvo Parada Ponosa - ECPv6.15.17.1//NONSGML v1.0//EN
CALSCALE:GREGORIAN
METHOD:PUBLISH
X-WR-CALNAME:Društvo Parada Ponosa
X-ORIGINAL-URL:https://ljubljanapride.org
X-WR-CALDESC:Dogodki za Društvo Parada Ponosa
REFRESH-INTERVAL;VALUE=DURATION:PT1H
X-Robots-Tag:noindex
X-PUBLISHED-TTL:PT1H
BEGIN:VTIMEZONE
TZID:Europe/Ljubljana
BEGIN:DAYLIGHT
TZOFFSETFROM:+0100
TZOFFSETTO:+0200
TZNAME:CEST
DTSTART:20230326T010000
END:DAYLIGHT
BEGIN:STANDARD
TZOFFSETFROM:+0200
TZOFFSETTO:+0100
TZNAME:CET
DTSTART:20231029T010000
END:STANDARD
BEGIN:DAYLIGHT
TZOFFSETFROM:+0100
TZOFFSETTO:+0200
TZNAME:CEST
DTSTART:20240331T010000
END:DAYLIGHT
BEGIN:STANDARD
TZOFFSETFROM:+0200
TZOFFSETTO:+0100
TZNAME:CET
DTSTART:20241027T010000
END:STANDARD
BEGIN:DAYLIGHT
TZOFFSETFROM:+0100
TZOFFSETTO:+0200
TZNAME:CEST
DTSTART:20250330T010000
END:DAYLIGHT
BEGIN:STANDARD
TZOFFSETFROM:+0200
TZOFFSETTO:+0100
TZNAME:CET
DTSTART:20251026T010000
END:STANDARD
END:VTIMEZONE
BEGIN:VEVENT
DTSTART;TZID=Europe/Ljubljana:20241216T170000
DTEND;TZID=Europe/Ljubljana:20241216T200000
DTSTAMP:20260420T070459
CREATED:20241206T095231Z
LAST-MODIFIED:20241206T095231Z
UID:9930-1734368400-1734379200@ljubljanapride.org
SUMMARY:2024 - Pregled leta
DESCRIPTION:Leto se bliža koncu\, zato je čas\, da skupaj pogledamo\, kaj vse smo dosegle_i\, kje smo premaknile_i meje in kje so nas morda stvari malo ustavile. Zato vas vabimo na Zaključni dogodek leta\, ki bo potekal v Studiju Hane Karim na Vilharjevi 3! \nLetos zaključujemo tudi projekt Mavrična Evropa\, o katerem bosta več povedal_a Ivan Kovač\, naš_a mladinska_i delavka_ec\, in Alejandro Martinez\, naš bivši prostovoljec. Poleg tega bomo poklepetale_i še o LGBTIQ+ EU strategiji za 2025 ter naših planih za prihodnje leto. \nKo bomo s tem delom končale_i\, pa je čas za sproščeno druženje – čakajo nas dobra družba\, pijača\, prigrizki in karaoke! \nVidimo se ob 17.00\, da skupaj zaključimo leto v stilu in se pripravimo na nove zmage. \nPridi\, poslovimo se od leta v stilu!
URL:https://ljubljanapride.org/event/2024-pregled-leta/
LOCATION:Hana Karim Studio\, Vilharjeva 3\, Ljubljana\, Slovenija
ATTACH;FMTTYPE=image/jpeg:https://ljubljanapride.org/wp-content/uploads/2024/12/bannergraphic_for_End_Of_The_Year_event-1-scaled-e1733478732523.jpg
END:VEVENT
END:VCALENDAR