BEGIN:VCALENDAR
VERSION:2.0
PRODID:-//Društvo Parada Ponosa - ECPv6.15.17.1//NONSGML v1.0//EN
CALSCALE:GREGORIAN
METHOD:PUBLISH
X-WR-CALNAME:Društvo Parada Ponosa
X-ORIGINAL-URL:https://ljubljanapride.org
X-WR-CALDESC:Dogodki za Društvo Parada Ponosa
REFRESH-INTERVAL;VALUE=DURATION:PT1H
X-Robots-Tag:noindex
X-PUBLISHED-TTL:PT1H
BEGIN:VTIMEZONE
TZID:Europe/Ljubljana
BEGIN:DAYLIGHT
TZOFFSETFROM:+0100
TZOFFSETTO:+0200
TZNAME:CEST
DTSTART:20240331T010000
END:DAYLIGHT
BEGIN:STANDARD
TZOFFSETFROM:+0200
TZOFFSETTO:+0100
TZNAME:CET
DTSTART:20241027T010000
END:STANDARD
BEGIN:DAYLIGHT
TZOFFSETFROM:+0100
TZOFFSETTO:+0200
TZNAME:CEST
DTSTART:20250330T010000
END:DAYLIGHT
BEGIN:STANDARD
TZOFFSETFROM:+0200
TZOFFSETTO:+0100
TZNAME:CET
DTSTART:20251026T010000
END:STANDARD
BEGIN:DAYLIGHT
TZOFFSETFROM:+0100
TZOFFSETTO:+0200
TZNAME:CEST
DTSTART:20260329T010000
END:DAYLIGHT
BEGIN:STANDARD
TZOFFSETFROM:+0200
TZOFFSETTO:+0100
TZNAME:CET
DTSTART:20261025T010000
END:STANDARD
END:VTIMEZONE
BEGIN:VEVENT
DTSTART;TZID=Europe/Ljubljana:20250522T170000
DTEND;TZID=Europe/Ljubljana:20250522T203000
DTSTAMP:20260420T011004
CREATED:20250515T152920Z
LAST-MODIFIED:20250519T063217Z
UID:10490-1747933200-1747945800@ljubljanapride.org
SUMMARY:ABC o rasiziranih mladih
DESCRIPTION:Delavnica “ABC o rasiziranih mladih” poteka v sklopu procesa certificiranja vključujočih organizacij. Izvaja se v slovenščini\, z možnostjo delov v angleščini zaradi sodelovanja osebe z izkušnjo rasizma\, ki ne govori slovensko. \nIzvajalki: Simona Muršec in Eva Jus. \nNamen je udeleženkam_cem predstaviti izkušnjo rasizma\, ki ga doživljajo rasizirane (mlade) osebe\, ki živijo v Sloveniji\, ter graditi razumevanje\, kaj rasizem je in kako deluje. \n\n Udeleženke_ci bodo pridobile_i osnovno razumevanje koncepta rasizma in razmerij moči.\n Udeleženke_ci bodo raziskovale_i dinamike nevidnega rasizma s poudarkom na mikroagresijah ter razmišljale_i o privilegijih in predsodkih v povezavi z rasizmom.\n Udeleženke_ci bodo pridobile_i globlje razumevanje izkušenj rasizma\, ki jih doživljajo rasizirane (mlade) osebe\, ki živijo v Sloveniji\, ter reflektirale_i svojo organizacijsko vlogo pri soustvarjanju bolj vključujočega okolja za rasizirane (mlade) osebe.\n\nNa delavnici bodo sodelovale_i članice Društva Impro\, ki sodelujejo v procesu certificiranja vključujočih organizacij.
URL:https://ljubljanapride.org/event/abc-na-rasiziranih-mladih/
LOCATION:Društvo Parada ponosa\, Dunajska cesta 10\, Ljubljana
ATTACH;FMTTYPE=image/png:https://ljubljanapride.org/wp-content/uploads/2025/05/Izdelek-brez-naslova-2.png
ORGANIZER;CN="Dru%C5%A1tvo Parada ponosa":MAILTO:info@ljubljanapride.org
END:VEVENT
END:VCALENDAR