BEGIN:VCALENDAR
VERSION:2.0
PRODID:-//Društvo Parada Ponosa - ECPv6.15.17.1//NONSGML v1.0//EN
CALSCALE:GREGORIAN
METHOD:PUBLISH
X-WR-CALNAME:Društvo Parada Ponosa
X-ORIGINAL-URL:https://ljubljanapride.org
X-WR-CALDESC:Dogodki za Društvo Parada Ponosa
REFRESH-INTERVAL;VALUE=DURATION:PT1H
X-Robots-Tag:noindex
X-PUBLISHED-TTL:PT1H
BEGIN:VTIMEZONE
TZID:Europe/Ljubljana
BEGIN:DAYLIGHT
TZOFFSETFROM:+0100
TZOFFSETTO:+0200
TZNAME:CEST
DTSTART:20200329T010000
END:DAYLIGHT
BEGIN:STANDARD
TZOFFSETFROM:+0200
TZOFFSETTO:+0100
TZNAME:CET
DTSTART:20201025T010000
END:STANDARD
BEGIN:DAYLIGHT
TZOFFSETFROM:+0100
TZOFFSETTO:+0200
TZNAME:CEST
DTSTART:20210328T010000
END:DAYLIGHT
BEGIN:STANDARD
TZOFFSETFROM:+0200
TZOFFSETTO:+0100
TZNAME:CET
DTSTART:20211031T010000
END:STANDARD
BEGIN:DAYLIGHT
TZOFFSETFROM:+0100
TZOFFSETTO:+0200
TZNAME:CEST
DTSTART:20220327T010000
END:DAYLIGHT
BEGIN:STANDARD
TZOFFSETFROM:+0200
TZOFFSETTO:+0100
TZNAME:CET
DTSTART:20221030T010000
END:STANDARD
END:VTIMEZONE
BEGIN:VEVENT
DTSTART;TZID=Europe/Ljubljana:20210601T160000
DTEND;TZID=Europe/Ljubljana:20210601T200000
DTSTAMP:20260424T151629
CREATED:20210521T134137Z
LAST-MODIFIED:20210521T134137Z
UID:4857-1622563200-1622577600@ljubljanapride.org
SUMMARY:Badge- and Banner-Making Workshop: TRANSparent Part Two
DESCRIPTION:Parada povezuje in Društvo Kvartir soorganizirata dogodek TRANSparent\, drugi del: delavnica izdelovanja transparentov in značk. \nMed iniciativami\, s katerimi Društvo Parada ponosa sodeluje v okviru letošnjega Festivala Parada ponosa\, je tudi Transpozij_um\, vsakoletno srečanje transspolne in interspolne skupnosti z Balkana\, ki ga letos organizira trans sekcija Društva Kvartir\, TransKvartir. V podporo njihovemu delu\, in da zagotovimo svojo opremljenost za skupno protestiranje na Paradi ponosa\, ki se ji letos pridružuje tudi Balkanski trans inter marš\,  Parada povezuje in Društvo Kvartir pripravljata »drop-in« delavnico\, na kateri bomo izdelovale_i transparente\, protestne pripomočke in značke s poudarkom na trans vsebinah. Hkrati bo dogodek tudi priložnost\, da spoznate prostovoljke_ce\, ki se nam bodo iz tujine in vsepovsod po Sloveniji pridružile_i\, da v okviru programa Evropska solidarnostna enota pomagajo pri organizaciji Festivala Parada ponosa. Skupaj jim bomo lahko predstavile_i lokalno kvir in trans skupnost! \nMateriale\, ki bodo izdelani na delavnici\, bomo uporabile_i na Balkanskem trans inter maršu ter za zbiranje sredstev za Festival Parada ponosa. \nDogodek je namenjen transspolnim osebam in zaveznicam_kom\, odvil pa se bo v živo pred klubom Monokel na Metelkovi. Za prijavo prosim pošljite sporočilo na asja@ljubljanapride.org.  \nDogodek bo potekal v angleščini.
URL:https://ljubljanapride.org/event/badge-and-banner-making-workshop-transparent-part-two/
LOCATION:pred klubom Monokel na Metelkovi
ORGANIZER;CN="Dru%C5%A1tvo Parada ponosa":MAILTO:info@ljubljanapride.org
END:VEVENT
END:VCALENDAR