BEGIN:VCALENDAR
VERSION:2.0
PRODID:-//Društvo Parada Ponosa - ECPv6.15.17.1//NONSGML v1.0//EN
CALSCALE:GREGORIAN
METHOD:PUBLISH
X-WR-CALNAME:Društvo Parada Ponosa
X-ORIGINAL-URL:https://ljubljanapride.org
X-WR-CALDESC:Dogodki za Društvo Parada Ponosa
REFRESH-INTERVAL;VALUE=DURATION:PT1H
X-Robots-Tag:noindex
X-PUBLISHED-TTL:PT1H
BEGIN:VTIMEZONE
TZID:Europe/Helsinki
BEGIN:DAYLIGHT
TZOFFSETFROM:+0200
TZOFFSETTO:+0300
TZNAME:EEST
DTSTART:20190331T010000
END:DAYLIGHT
BEGIN:STANDARD
TZOFFSETFROM:+0300
TZOFFSETTO:+0200
TZNAME:EET
DTSTART:20191027T010000
END:STANDARD
BEGIN:DAYLIGHT
TZOFFSETFROM:+0200
TZOFFSETTO:+0300
TZNAME:EEST
DTSTART:20200329T010000
END:DAYLIGHT
BEGIN:STANDARD
TZOFFSETFROM:+0300
TZOFFSETTO:+0200
TZNAME:EET
DTSTART:20201025T010000
END:STANDARD
BEGIN:DAYLIGHT
TZOFFSETFROM:+0200
TZOFFSETTO:+0300
TZNAME:EEST
DTSTART:20210328T010000
END:DAYLIGHT
BEGIN:STANDARD
TZOFFSETFROM:+0300
TZOFFSETTO:+0200
TZNAME:EET
DTSTART:20211031T010000
END:STANDARD
END:VTIMEZONE
BEGIN:VEVENT
DTSTART;TZID=Europe/Helsinki:20200915T170000
DTEND;TZID=Europe/Helsinki:20200915T200000
DTSTAMP:20260425T195155
CREATED:20200831T061600Z
LAST-MODIFIED:20200831T093841Z
UID:3847-1600189200-1600200000@ljubljanapride.org
SUMMARY:Delavnica: Čajanka z aktivizmom
DESCRIPTION:Organizator: Društvo Parada Ponosa \nJezik: slovenščina \n  \nSolidarnost je koncept\, ki je aktivistkam_om pogosto pri srcu\, a le malokrat dobi toliko pozornosti\, kot si jo zasluži. Kako živimo in delamo solidarnost? Znamo resnično dobro in uspešno prevajati solidarnost navzven\, preko naših skupnosti in družbenih krogov do sobork_cev za človekove pravice?  \n  \nZ zgornjimi vprašanji v mislih vas vabimo na čajanko\, na katerem bo posebna_i gost_ja aktivizem\, njen_a sogovornica_k pa solidarnost. Dobri kavi in čaju (in kakšnemu prigrizku\, seveda) bomo primešale_i lastne aktivistične izkušnje in jih osvetlile_i iz vidika solidarnosti. Za posladek pa bomo poskušale_i okrepiti medskupnostno solidarnost in načrtovati skupne bojne akcije. \n  \nDogodek bo polstrukturiran\, delno koordiniran\, angažiran in okrepčilen tako navznoter kot navzven. 😉 
URL:https://ljubljanapride.org/event/delavnica-cajanka-z-aktivizmom/
ATTACH;FMTTYPE=image/jpeg:https://ljubljanapride.org/wp-content/uploads/2020/08/15.9._cajanka-z-aktivizmom_fb-event-cover-Small-1.jpg
END:VEVENT
END:VCALENDAR