BEGIN:VCALENDAR
VERSION:2.0
PRODID:-//Društvo Parada Ponosa - ECPv6.15.17.1//NONSGML v1.0//EN
CALSCALE:GREGORIAN
METHOD:PUBLISH
X-WR-CALNAME:Društvo Parada Ponosa
X-ORIGINAL-URL:https://ljubljanapride.org
X-WR-CALDESC:Dogodki za Društvo Parada Ponosa
REFRESH-INTERVAL;VALUE=DURATION:PT1H
X-Robots-Tag:noindex
X-PUBLISHED-TTL:PT1H
BEGIN:VTIMEZONE
TZID:Europe/Ljubljana
BEGIN:DAYLIGHT
TZOFFSETFROM:+0100
TZOFFSETTO:+0200
TZNAME:CEST
DTSTART:20240331T010000
END:DAYLIGHT
BEGIN:STANDARD
TZOFFSETFROM:+0200
TZOFFSETTO:+0100
TZNAME:CET
DTSTART:20241027T010000
END:STANDARD
BEGIN:DAYLIGHT
TZOFFSETFROM:+0100
TZOFFSETTO:+0200
TZNAME:CEST
DTSTART:20250330T010000
END:DAYLIGHT
BEGIN:STANDARD
TZOFFSETFROM:+0200
TZOFFSETTO:+0100
TZNAME:CET
DTSTART:20251026T010000
END:STANDARD
BEGIN:DAYLIGHT
TZOFFSETFROM:+0100
TZOFFSETTO:+0200
TZNAME:CEST
DTSTART:20260329T010000
END:DAYLIGHT
BEGIN:STANDARD
TZOFFSETFROM:+0200
TZOFFSETTO:+0100
TZNAME:CET
DTSTART:20261025T010000
END:STANDARD
END:VTIMEZONE
BEGIN:VEVENT
DTSTART;TZID=Europe/Ljubljana:20250130T180000
DTEND;TZID=Europe/Ljubljana:20250130T200000
DTSTAMP:20260420T122613
CREATED:20250121T101330Z
LAST-MODIFIED:20250121T101617Z
UID:10063-1738260000-1738267200@ljubljanapride.org
SUMMARY:DELAVNICA: Javno nastopanje
DESCRIPTION:✨Javno nastopanje NI bau-bau! Pripravi se na smeh\, izzive in nove veščine – žrebale_i bomo listke z besedili in jih prebrale_i v najbolj nepričakovanih situacijah. 😄 \nSkupaj bomo vadile_i\, raziskovale_i in se opolnomočile_i\, da zablestimo\, kjerkoli nastopamo! 🌈✨ Besedila bodo v slovenščini in angleščini\, zato ste dobrodošle_i vse_i\, ki želite izpiliti svoje govorne veščine. Se vidimo 30. januarja ob 18.00 v pisarnah Parade ponosa na Dunajski 10! 👋
URL:https://ljubljanapride.org/event/delavnica-javno-nastopanje/
LOCATION:Društvo Parada ponosa\, Dunajska cesta 10
ATTACH;FMTTYPE=image/png:https://ljubljanapride.org/wp-content/uploads/2025/01/Public-speaking-WS.png
END:VEVENT
END:VCALENDAR