BEGIN:VCALENDAR
VERSION:2.0
PRODID:-//Društvo Parada Ponosa - ECPv6.15.17.1//NONSGML v1.0//EN
CALSCALE:GREGORIAN
METHOD:PUBLISH
X-WR-CALNAME:Društvo Parada Ponosa
X-ORIGINAL-URL:https://ljubljanapride.org
X-WR-CALDESC:Dogodki za Društvo Parada Ponosa
REFRESH-INTERVAL;VALUE=DURATION:PT1H
X-Robots-Tag:noindex
X-PUBLISHED-TTL:PT1H
BEGIN:VTIMEZONE
TZID:Europe/Helsinki
BEGIN:DAYLIGHT
TZOFFSETFROM:+0200
TZOFFSETTO:+0300
TZNAME:EEST
DTSTART:20190331T010000
END:DAYLIGHT
BEGIN:STANDARD
TZOFFSETFROM:+0300
TZOFFSETTO:+0200
TZNAME:EET
DTSTART:20191027T010000
END:STANDARD
BEGIN:DAYLIGHT
TZOFFSETFROM:+0200
TZOFFSETTO:+0300
TZNAME:EEST
DTSTART:20200329T010000
END:DAYLIGHT
BEGIN:STANDARD
TZOFFSETFROM:+0300
TZOFFSETTO:+0200
TZNAME:EET
DTSTART:20201025T010000
END:STANDARD
BEGIN:DAYLIGHT
TZOFFSETFROM:+0200
TZOFFSETTO:+0300
TZNAME:EEST
DTSTART:20210328T010000
END:DAYLIGHT
BEGIN:STANDARD
TZOFFSETFROM:+0300
TZOFFSETTO:+0200
TZNAME:EET
DTSTART:20211031T010000
END:STANDARD
END:VTIMEZONE
BEGIN:VEVENT
DTSTART;TZID=Europe/Helsinki:20200910T180000
DTEND;TZID=Europe/Helsinki:20200910T200000
DTSTAMP:20260426T021619
CREATED:20200831T061830Z
LAST-MODIFIED:20200831T061830Z
UID:3851-1599760800-1599768000@ljubljanapride.org
SUMMARY:Delavnica: #seksnakavcu: Promiskuitetnost
DESCRIPTION:Organizator: Iniciativa Kavč \nJezik: slovenski \n  \n#seksnakavču je pogovorna skupina o seksu\, spolnosti in razmerjih. Te teme od nas zahtevajo velik poseg v osebno intimo ter deljenje ranljivosti tako s seboj kot ostalimi. Da bi poskrbele_i za čim bolj gladek potek znotraj skupine je na prvem mestu varen prostor. Pogovor večinoma poteka v manjših skupinah\, kar omogoči bolj poglobljeno in udobno druženje. Spoštujemo mnenja\, doživljanja in izkušnje vseh brez predvidevanj in obsojanj. \nSkupina je namenjena vsem LGBTIQ+ osebam ter vsem\, ki te identitete raziskujejo in preizprašujejo. Srečanja se odvijajo vsakih 14 dni\, na lokaciji\, kjer je spolzko KAD PADNE MRAK 🙂 \n  \nNa dogodku bo zagotovljena primerna razdalja med udeleženkami_ci ter razkužilo. Vseeno pa vas prosimo\, da imate s seboj zaščitno masko za prehajanje med prostori in za primere\, ko bi zaradi potreb pogovora želele_i biti bližje drugim osebam kot je priporočljivo. \n  \nPRIJAVE na dogodek so obvezne\, število mest je omejeno. Svojo prijavo pošljete na info@iniciativa-kavc.org najkasneje do 9.9.2020. V primeru\, da bo število prijav višje od razpoložljivih mest\, upoštevamo princip kdor prvi pride\, prvi melje. 🙂 Po uspešni prijavi vam na mail pošljemo dodatne informacije z lokacijo vred. \n  \nNa tretjem\, special-edition paradnem pogovornem srečanju se bomo pogovarjale_i o konceptu promiskuitetnosti: od kod izvira\, zakaj je nastal\, čemu služi in kako ga presegati. 
URL:https://ljubljanapride.org/event/delavnica-seksnakavcu-promiskuitetnost/
ATTACH;FMTTYPE=image/png:https://ljubljanapride.org/wp-content/uploads/2020/08/10.9._seks-na-kavcu-Small.png
END:VEVENT
END:VCALENDAR