BEGIN:VCALENDAR
VERSION:2.0
PRODID:-//Društvo Parada Ponosa - ECPv6.15.17.1//NONSGML v1.0//EN
CALSCALE:GREGORIAN
METHOD:PUBLISH
X-WR-CALNAME:Društvo Parada Ponosa
X-ORIGINAL-URL:https://ljubljanapride.org
X-WR-CALDESC:Dogodki za Društvo Parada Ponosa
REFRESH-INTERVAL;VALUE=DURATION:PT1H
X-Robots-Tag:noindex
X-PUBLISHED-TTL:PT1H
BEGIN:VTIMEZONE
TZID:Europe/Helsinki
BEGIN:DAYLIGHT
TZOFFSETFROM:+0200
TZOFFSETTO:+0300
TZNAME:EEST
DTSTART:20190331T010000
END:DAYLIGHT
BEGIN:STANDARD
TZOFFSETFROM:+0300
TZOFFSETTO:+0200
TZNAME:EET
DTSTART:20191027T010000
END:STANDARD
BEGIN:DAYLIGHT
TZOFFSETFROM:+0200
TZOFFSETTO:+0300
TZNAME:EEST
DTSTART:20200329T010000
END:DAYLIGHT
BEGIN:STANDARD
TZOFFSETFROM:+0300
TZOFFSETTO:+0200
TZNAME:EET
DTSTART:20201025T010000
END:STANDARD
BEGIN:DAYLIGHT
TZOFFSETFROM:+0200
TZOFFSETTO:+0300
TZNAME:EEST
DTSTART:20210328T010000
END:DAYLIGHT
BEGIN:STANDARD
TZOFFSETFROM:+0300
TZOFFSETTO:+0200
TZNAME:EET
DTSTART:20211031T010000
END:STANDARD
END:VTIMEZONE
BEGIN:VEVENT
DTSTART;TZID=Europe/Helsinki:20201207T080000
DTEND;TZID=Europe/Helsinki:20201213T233000
DTSTAMP:20260424T202743
CREATED:20201208T151204Z
LAST-MODIFIED:20201208T164423Z
UID:4536-1607328000-1607902200@ljubljanapride.org
SUMMARY:Dražko: Dražba mladih kvir umetnic_kov
DESCRIPTION:Dobrodošle_i na art dražbo\, kjer se bodo mlade_i kvir umetnice_ki predstavile_i s svojimi izdelki. S sodelovanjem na dražbi podpirate lokalne umetnice_ke\, saj prejmejo celoten znesek. Vi pa dobite možnost nakupa najbolj inovativnih decembrskih daril   Dražba poteka od ponedeljka\, 7. 12.\, do nedelje\, 13.12. (do 00:00h). Namenjena je prav vsem! Sodelujete tako\, da v komentar pod posameznim izdelkom ponudite svojo ceno oz. dvigate prejšnjo za 1 eur. \nKAKO SODELOVATI: ((Izklicna cena za vsak izdelek je 10 eur.)) Če sliko komentirate prvi\, napišite komentar pod sliko želenega izdelka (zvišujem za 1 eur oz. odkupim za 11 eur). Če niste prvi\, ki komentirate sliko\, si oglejte\, do katere cene se je izdelek že zvišal in nadaljujte od tega zneska naprej (npr. izdelek je pod komentarji zvišan na 20 eur\, vi pa ga zvišate na 21). Po končani dražbi\, v pondeljek\, 14.12.\, bomo stopile_i v stik z zmagovalkami_ci posameznih izdelkov\, da se dogovorimo za prejem in plačilo izdelka. Za kakršnekoli informacije se lahko obrnete na didi@ljubljanapride.org. Sedaj pa hitro povabite svoje bližnje\, da skupaj sodelujete!  \nPovezava do dražbe: https://www.facebook.com/LjubljanaPride/posts/3511750602193364
URL:https://ljubljanapride.org/event/drazko-drazba-mladih-kvir-umetnic_kov/
LOCATION:Facebook profil @LjubljanaPride
ATTACH;FMTTYPE=image/png:https://ljubljanapride.org/wp-content/uploads/2020/12/Drazko_fb.png
END:VEVENT
END:VCALENDAR