BEGIN:VCALENDAR
VERSION:2.0
PRODID:-//Društvo Parada Ponosa - ECPv6.15.17.1//NONSGML v1.0//EN
CALSCALE:GREGORIAN
METHOD:PUBLISH
X-WR-CALNAME:Društvo Parada Ponosa
X-ORIGINAL-URL:https://ljubljanapride.org
X-WR-CALDESC:Dogodki za Društvo Parada Ponosa
REFRESH-INTERVAL;VALUE=DURATION:PT1H
X-Robots-Tag:noindex
X-PUBLISHED-TTL:PT1H
BEGIN:VTIMEZONE
TZID:Europe/Ljubljana
BEGIN:DAYLIGHT
TZOFFSETFROM:+0100
TZOFFSETTO:+0200
TZNAME:CEST
DTSTART:20220327T010000
END:DAYLIGHT
BEGIN:STANDARD
TZOFFSETFROM:+0200
TZOFFSETTO:+0100
TZNAME:CET
DTSTART:20221030T010000
END:STANDARD
BEGIN:DAYLIGHT
TZOFFSETFROM:+0100
TZOFFSETTO:+0200
TZNAME:CEST
DTSTART:20230326T010000
END:DAYLIGHT
BEGIN:STANDARD
TZOFFSETFROM:+0200
TZOFFSETTO:+0100
TZNAME:CET
DTSTART:20231029T010000
END:STANDARD
BEGIN:DAYLIGHT
TZOFFSETFROM:+0100
TZOFFSETTO:+0200
TZNAME:CEST
DTSTART:20240331T010000
END:DAYLIGHT
BEGIN:STANDARD
TZOFFSETFROM:+0200
TZOFFSETTO:+0100
TZNAME:CET
DTSTART:20241027T010000
END:STANDARD
END:VTIMEZONE
BEGIN:VEVENT
DTSTART;TZID=Europe/Ljubljana:20231019T170000
DTEND;TZID=Europe/Ljubljana:20231019T190000
DTSTAMP:20260420T215140
CREATED:20231009T132958Z
LAST-MODIFIED:20231017T104715Z
UID:8321-1697734800-1697742000@ljubljanapride.org
SUMMARY:EUropean Café
DESCRIPTION:Volilna pravica ni le pravica\, ampak nam daje moč\, da oblikujemo prihodnost\, v kateri želimo živeti.  Zato smo pripravile_i EUropean Café – prostor za razpravo\, izmenjavo idej in mnenj s pomočjo World Café metodologije.  Verjamemo v to\, da so pogovori pomembni! \n\nZakaj je pomembno\, da greš volit?\nKaj potrebuješ\, da greš volit?\nKaj bi te spodbudilo k temu\, da bi šla_el volit?\nKaj lahko narediš\, da bi k udeležbi na volitvah spodbudil_a tudi druge?\n\nNavdihnimo drug drugega k dejavnemu sodelovanju pri oblikovanju naše skupne prihodnosti! Pridruži se nam v EUropski kavarni\, kjer bomo skupaj skuhale_i ideje\, nove poglede in rešitve. \n  \nAktivnost financira Evropska Unija.
URL:https://ljubljanapride.org/event/european-cafe/
LOCATION:Zorica Bar\, Kersnikova ulica 4\, Ljubljana\, 1000\, Slovenija
ATTACH;FMTTYPE=image/jpeg:https://ljubljanapride.org/wp-content/uploads/2023/10/EU-cafe-1-scaled.jpg
END:VEVENT
END:VCALENDAR