BEGIN:VCALENDAR
VERSION:2.0
PRODID:-//Društvo Parada Ponosa - ECPv6.15.17.1//NONSGML v1.0//EN
CALSCALE:GREGORIAN
METHOD:PUBLISH
X-WR-CALNAME:Društvo Parada Ponosa
X-ORIGINAL-URL:https://ljubljanapride.org
X-WR-CALDESC:Dogodki za Društvo Parada Ponosa
REFRESH-INTERVAL;VALUE=DURATION:PT1H
X-Robots-Tag:noindex
X-PUBLISHED-TTL:PT1H
BEGIN:VTIMEZONE
TZID:Europe/Ljubljana
BEGIN:DAYLIGHT
TZOFFSETFROM:+0100
TZOFFSETTO:+0200
TZNAME:CEST
DTSTART:20230326T010000
END:DAYLIGHT
BEGIN:STANDARD
TZOFFSETFROM:+0200
TZOFFSETTO:+0100
TZNAME:CET
DTSTART:20231029T010000
END:STANDARD
BEGIN:DAYLIGHT
TZOFFSETFROM:+0100
TZOFFSETTO:+0200
TZNAME:CEST
DTSTART:20240331T010000
END:DAYLIGHT
BEGIN:STANDARD
TZOFFSETFROM:+0200
TZOFFSETTO:+0100
TZNAME:CET
DTSTART:20241027T010000
END:STANDARD
BEGIN:DAYLIGHT
TZOFFSETFROM:+0100
TZOFFSETTO:+0200
TZNAME:CEST
DTSTART:20250330T010000
END:DAYLIGHT
BEGIN:STANDARD
TZOFFSETFROM:+0200
TZOFFSETTO:+0100
TZNAME:CET
DTSTART:20251026T010000
END:STANDARD
END:VTIMEZONE
BEGIN:VEVENT
DTSTART;TZID=Europe/Ljubljana:20240220T170000
DTEND;TZID=Europe/Ljubljana:20240220T190000
DTSTAMP:20260420T170307
CREATED:20240213T080659Z
LAST-MODIFIED:20240214T093442Z
UID:8811-1708448400-1708455600@ljubljanapride.org
SUMMARY:Evropske stranke 101
DESCRIPTION:Vabljene_i na dogodek “Evropske stranke 101”!  \nPridružite se nam 20. februarja ob 17. uri za razburljivo in informativno popotovanje skozi raznolik svet Evropskih strank. \nNa začetku vas bomo popeljale_i skozi barvito predstavitev Evropskih strank\, ki se bodo osredotočile na njihovo zgodovino\, vrednote in glavne cilje. Skupaj bomo odkrivali\, kaj jih razlikuje in povezuje ter kako so oblikovane za ustvarjanje pozitivnih sprememb v evropski družbi. Raziskale_i bomo tudi\, katere Evropske stranke si aktivno prizadevajo za pravice LGBTIQ+ skupnosti. Izvedeli boste o njihovih prizadevanjih\, ciljih in dosežkih na področju enakopravnosti in spoštovanja raznolikosti. \nPripravite se na izziv! Sestavile_i smo interaktiven kviz\, ki vam bo omogočil\, da preverite svoje znanje o Evropskih strankah. Dogodek bomo zaključile_i s sproščenim druženjem in zabavnim spoznavanjem med udeleženci. Izkoristite priložnost\, da postavite vprašanja\, izrazite svoje mnenje in izmenjate stališča o evropski politiki.
URL:https://ljubljanapride.org/event/evropske-stranke-101/
LOCATION:okoljski center\, Trubarjeva 50\, Ljubljana\, 1000\, Slovenija
ATTACH;FMTTYPE=image/png:https://ljubljanapride.org/wp-content/uploads/2024/02/Mavricna_Evropa_20.2.png
END:VEVENT
END:VCALENDAR