BEGIN:VCALENDAR
VERSION:2.0
PRODID:-//Društvo Parada Ponosa - ECPv6.15.17.1//NONSGML v1.0//EN
CALSCALE:GREGORIAN
METHOD:PUBLISH
X-WR-CALNAME:Društvo Parada Ponosa
X-ORIGINAL-URL:https://ljubljanapride.org
X-WR-CALDESC:Dogodki za Društvo Parada Ponosa
REFRESH-INTERVAL;VALUE=DURATION:PT1H
X-Robots-Tag:noindex
X-PUBLISHED-TTL:PT1H
BEGIN:VTIMEZONE
TZID:Europe/Ljubljana
BEGIN:DAYLIGHT
TZOFFSETFROM:+0100
TZOFFSETTO:+0200
TZNAME:CEST
DTSTART:20240331T010000
END:DAYLIGHT
BEGIN:STANDARD
TZOFFSETFROM:+0200
TZOFFSETTO:+0100
TZNAME:CET
DTSTART:20241027T010000
END:STANDARD
BEGIN:DAYLIGHT
TZOFFSETFROM:+0100
TZOFFSETTO:+0200
TZNAME:CEST
DTSTART:20250330T010000
END:DAYLIGHT
BEGIN:STANDARD
TZOFFSETFROM:+0200
TZOFFSETTO:+0100
TZNAME:CET
DTSTART:20251026T010000
END:STANDARD
BEGIN:DAYLIGHT
TZOFFSETFROM:+0100
TZOFFSETTO:+0200
TZNAME:CEST
DTSTART:20260329T010000
END:DAYLIGHT
BEGIN:STANDARD
TZOFFSETFROM:+0200
TZOFFSETTO:+0100
TZNAME:CET
DTSTART:20261025T010000
END:STANDARD
END:VTIMEZONE
BEGIN:VEVENT
DTSTART;TZID=Europe/Ljubljana:20250829T180000
DTEND;TZID=Europe/Ljubljana:20250829T210000
DTSTAMP:20260419T161531
CREATED:20250715T122503Z
LAST-MODIFIED:20250715T122503Z
UID:10617-1756490400-1756501200@ljubljanapride.org
SUMMARY:Hvala za parado!
DESCRIPTION:Vsako leto\, ko zaključimo z vsemi evalvacijami festivala Pride v Ljubljani ter se poleti spočijemo in napolnimo z energijo\, povabimo vse\, ki so k temu prispevali\, da nazdravijo s šampanjcem in rečejo »Uspelo nam je!«\, se družijo in podelijo potrdila o prostovoljstvu 🙂 Festival Pride v Ljubljani in Dan ponosa ne bi mogel biti izveden brez vaše podpore! \nNa dogodku bomo pregledali uspehe in predloge za naslednje leto\, vse v sproščenem vzdušju\, z dobro hrano in glasbo – in predvsem v dobri družbi.
URL:https://ljubljanapride.org/event/hvala-za-parado/
ATTACH;FMTTYPE=image/jpeg:https://ljubljanapride.org/wp-content/uploads/2025/07/NK_pride_2025-98-scaled.jpg
END:VEVENT
END:VCALENDAR