BEGIN:VCALENDAR
VERSION:2.0
PRODID:-//Društvo Parada Ponosa - ECPv6.15.17.1//NONSGML v1.0//EN
CALSCALE:GREGORIAN
METHOD:PUBLISH
X-WR-CALNAME:Društvo Parada Ponosa
X-ORIGINAL-URL:https://ljubljanapride.org
X-WR-CALDESC:Dogodki za Društvo Parada Ponosa
REFRESH-INTERVAL;VALUE=DURATION:PT1H
X-Robots-Tag:noindex
X-PUBLISHED-TTL:PT1H
BEGIN:VTIMEZONE
TZID:Europe/Helsinki
BEGIN:DAYLIGHT
TZOFFSETFROM:+0200
TZOFFSETTO:+0300
TZNAME:EEST
DTSTART:20190331T010000
END:DAYLIGHT
BEGIN:STANDARD
TZOFFSETFROM:+0300
TZOFFSETTO:+0200
TZNAME:EET
DTSTART:20191027T010000
END:STANDARD
BEGIN:DAYLIGHT
TZOFFSETFROM:+0200
TZOFFSETTO:+0300
TZNAME:EEST
DTSTART:20200329T010000
END:DAYLIGHT
BEGIN:STANDARD
TZOFFSETFROM:+0300
TZOFFSETTO:+0200
TZNAME:EET
DTSTART:20201025T010000
END:STANDARD
BEGIN:DAYLIGHT
TZOFFSETFROM:+0200
TZOFFSETTO:+0300
TZNAME:EEST
DTSTART:20210328T010000
END:DAYLIGHT
BEGIN:STANDARD
TZOFFSETFROM:+0300
TZOFFSETTO:+0200
TZNAME:EET
DTSTART:20211031T010000
END:STANDARD
END:VTIMEZONE
BEGIN:VEVENT
DTSTART;TZID=Europe/Helsinki:20200225T180000
DTEND;TZID=Europe/Helsinki:20200225T200000
DTSTAMP:20260424T105627
CREATED:20200214T174059Z
LAST-MODIFIED:20200221T154230Z
UID:3341-1582653600-1582660800@ljubljanapride.org
SUMMARY:Priprave na 8. marec 1. del
DESCRIPTION:V februarju (in začetku marca) bodo dogodki Parada povezuje posvečeni iskanju in odkrivanju najboljšega aktivizma za vsako_ega od nas. 100 ljudi\, 100 čudi\, 100 aktivizmov. Ne glede na to\, ali greš raje na ulico in protestiraš\, raje izvajaš poučne delavnice z mladimi ali raje svojo zgodbo deliš skozi umetnost – če imaš željo po tem\, da spreminjaš svet in zahtevaš spremembe za boljši jutri\, zagotovo obstaja vrsta aktivizma\, ki bo dala glas tvojim idejam. ? \nTa torek bomo obnovile_i svoje pridobljeno znanje s prejšnjih dogodkov Parada povezuje in ga prenesle_i v prakso! Naš cilj je\, da 8. marca\, na dan žensk\, izvedemo aktivistično akcijo. Na dogodku 18. 2. smo začele_i razmišljati\, kaj je naše sporočilo. Tokrat nadaljujemo z bolj konkretnimi načrti. Pogovarjale_i se bomo\, kaj točno lahko in želimo narediti\, kakšne so naše zakonske in druge omejitve in s kom se želimo povezati. Pridruži se nam\, če se želiš aktivirati v družbi drugih aktivistk_ov. \n?️ S ‘Parada povezuje’ si prizadevamo povezati lokalne LGBTIQ+ mlade\, aktivistke_e in vse\, ki jih zanima politična plat parad ponosa in boji za človekove pravice LGBTIQ+ oseb v Sloveniji in po svetu. \nZavedamo se\, da je to\, da se pojavimo kot LGBTIQ+ osebe na ulici\, samo po sebi politično dejanje. In vemo\, da to ni enostavno – zato želimo ustvarjati varen(varnejši) prostor za vse LGBTIQ+ osebe in prostor opolnomočenja.
URL:https://ljubljanapride.org/event/iscem-svoj-aktivizem-ulicna-akcija/
LOCATION:Društvo Parada ponosa\, Dunajska cesta 10\, Ljubljana
ATTACH;FMTTYPE=image/jpeg:https://ljubljanapride.org/wp-content/uploads/2020/02/86864379_2703845876317178_2199948696450236416_o1.jpg
ORGANIZER;CN="Dru%C5%A1tvo Parada ponosa":MAILTO:info@ljubljanapride.org
END:VEVENT
END:VCALENDAR