BEGIN:VCALENDAR
VERSION:2.0
PRODID:-//Društvo Parada Ponosa - ECPv6.15.17.1//NONSGML v1.0//EN
CALSCALE:GREGORIAN
METHOD:PUBLISH
X-WR-CALNAME:Društvo Parada Ponosa
X-ORIGINAL-URL:https://ljubljanapride.org
X-WR-CALDESC:Dogodki za Društvo Parada Ponosa
REFRESH-INTERVAL;VALUE=DURATION:PT1H
X-Robots-Tag:noindex
X-PUBLISHED-TTL:PT1H
BEGIN:VTIMEZONE
TZID:Europe/Helsinki
BEGIN:DAYLIGHT
TZOFFSETFROM:+0200
TZOFFSETTO:+0300
TZNAME:EEST
DTSTART:20190331T010000
END:DAYLIGHT
BEGIN:STANDARD
TZOFFSETFROM:+0300
TZOFFSETTO:+0200
TZNAME:EET
DTSTART:20191027T010000
END:STANDARD
BEGIN:DAYLIGHT
TZOFFSETFROM:+0200
TZOFFSETTO:+0300
TZNAME:EEST
DTSTART:20200329T010000
END:DAYLIGHT
BEGIN:STANDARD
TZOFFSETFROM:+0300
TZOFFSETTO:+0200
TZNAME:EET
DTSTART:20201025T010000
END:STANDARD
BEGIN:DAYLIGHT
TZOFFSETFROM:+0200
TZOFFSETTO:+0300
TZNAME:EEST
DTSTART:20210328T010000
END:DAYLIGHT
BEGIN:STANDARD
TZOFFSETFROM:+0300
TZOFFSETTO:+0200
TZNAME:EET
DTSTART:20211031T010000
END:STANDARD
END:VTIMEZONE
BEGIN:VEVENT
DTSTART;VALUE=DATE:20200420
DTEND;VALUE=DATE:20200421
DTSTAMP:20260424T175118
CREATED:20200406T110408Z
LAST-MODIFIED:20200406T123842Z
UID:3500-1587369600-1587369600@ljubljanapride.org
SUMMARY:Iščemo koordinatorko_ja povorke in rediteljstva
DESCRIPTION:?Društvo Parada ponosa išče koordinatorko_ja povorke in rediteljstva! ? \nV našo ekipo si želimo vključiti motivirano osebo\, ki bo pri letošnjem Festivalu Parada ponosa podpirala koordinacijo parade ter se izurila na tem področju z željo\, da v prihodnosti sama prevzame koordinacijo. \nDelo vključuje koordinacijo povorke (rediteljska služba\, usklajevanje dela z varnostno službo in policijo\, komunikacija z reševalno službo)\, nadzor pred začetkom povorke (podpora tehnični ekipi)\, skrb za nemoten potek povorke (pravočasen začetek\, zapora cest z reditelji)\, ter pregled nad celotnim dogajanjem do zaključka paradnega dne. \nProfil osebe:\n?si del LGBTIQ+ skupnosti ali zaveznica_k\n?imaš predhodne izkušnje z vodenjem in organiziranjem skupine ljudi ali močan interes izučiti se na      tem področju\n?si z Društvom pripravljen_a sodelovati dalj časa \nKaj ponujamo:\n?usposabljanje v obliki prostovoljskega dela\n?koordinacijsko podporo in mentorstvo izkušene osebe na področju dela\n?simbolično nagrado \nČe si se našla_el v opisu\, te vabimo k prijavi. Po zaključenih prijavah bomo organizirale_i sestanek\, na katerem se bomo bolje spoznale_i\, pogovorile_i o pričakovanjih in potrebah ter dogovorile_i za nadaljnje korake. \nProstovoljsko delo bo potekalo v juniju 2020 v Ljubljani\, v času Festivala Parada ponosa (5. – 13. 6. 2020) ter naprej po dogovoru. V primeru\, da bo Festival prestavljen na kasnejši termin\, pa najverjetneje v septembru 2020. \nPRIJAVI SE TUKAJ!\nPrijave zbiramo do 20. 4. 2020.\nZa dodatna vprašanja nas lahko kontaktiraš na info@ljubljanapride.org.\n_________________________
URL:https://ljubljanapride.org/event/iscemo-koordinatorko_ja-povorke-in-rediteljstva/
LOCATION:Društvo Parada ponosa\, Dunajska cesta 10\, Ljubljana
ATTACH;FMTTYPE=image/jpeg:https://ljubljanapride.org/wp-content/uploads/2020/04/Vodja-rediteljstva-Pride-2020_fb-scaled.jpg
ORGANIZER;CN="Dru%C5%A1tvo Parada ponosa":MAILTO:info@ljubljanapride.org
END:VEVENT
END:VCALENDAR