BEGIN:VCALENDAR
VERSION:2.0
PRODID:-//Društvo Parada Ponosa - ECPv6.15.17.1//NONSGML v1.0//EN
CALSCALE:GREGORIAN
METHOD:PUBLISH
X-WR-CALNAME:Društvo Parada Ponosa
X-ORIGINAL-URL:https://ljubljanapride.org
X-WR-CALDESC:Dogodki za Društvo Parada Ponosa
REFRESH-INTERVAL;VALUE=DURATION:PT1H
X-Robots-Tag:noindex
X-PUBLISHED-TTL:PT1H
BEGIN:VTIMEZONE
TZID:Europe/Ljubljana
BEGIN:DAYLIGHT
TZOFFSETFROM:+0100
TZOFFSETTO:+0200
TZNAME:CEST
DTSTART:20240331T010000
END:DAYLIGHT
BEGIN:STANDARD
TZOFFSETFROM:+0200
TZOFFSETTO:+0100
TZNAME:CET
DTSTART:20241027T010000
END:STANDARD
BEGIN:DAYLIGHT
TZOFFSETFROM:+0100
TZOFFSETTO:+0200
TZNAME:CEST
DTSTART:20250330T010000
END:DAYLIGHT
BEGIN:STANDARD
TZOFFSETFROM:+0200
TZOFFSETTO:+0100
TZNAME:CET
DTSTART:20251026T010000
END:STANDARD
BEGIN:DAYLIGHT
TZOFFSETFROM:+0100
TZOFFSETTO:+0200
TZNAME:CEST
DTSTART:20260329T010000
END:DAYLIGHT
BEGIN:STANDARD
TZOFFSETFROM:+0200
TZOFFSETTO:+0100
TZNAME:CET
DTSTART:20261025T010000
END:STANDARD
END:VTIMEZONE
BEGIN:VEVENT
DTSTART;TZID=Europe/Ljubljana:20250603T150000
DTEND;TZID=Europe/Ljubljana:20250603T200000
DTSTAMP:20260420T025638
CREATED:20250530T212549Z
LAST-MODIFIED:20250530T212549Z
UID:10518-1748962800-1748980800@ljubljanapride.org
SUMMARY:Izdelava transparentov za parado ponosa
DESCRIPTION:Tudi ti ob besedah ‘Parada ponosa’ pomisliš na barve\, moč in ustvarjalne slogane? Pridruži se nam pri izdelavi pisanih okraskov! \nDobimo se v Knjižnici reči\, kjer bomo skupaj ustvarjale_i transparente\, plakate in slogane. Lahko delaš po svojih idejah ali se pridružiš eni od postaj s konkretnimi nalogami. Spoznal_a boš tudi ljudi\, ki jih boš morda srečal_a na Paradi ponosa – in led bo že prebit 🙂 \nKdaj? 3. junija\, med 15:00 in 20:00\nKje? Knjižnica reči\, Belokranjska 6\, Savsko naselje\, Ljubljana
URL:https://ljubljanapride.org/event/izdelava-transparentov-za-parado-ponosa/
LOCATION:Knjižnica Reči\, Belokranjska ulica 6\, Ljubljana\, 1000\, Slovenia
ATTACH;FMTTYPE=image/png:https://ljubljanapride.org/wp-content/uploads/2025/05/Posnetek-zaslona-2025-05-30-231913.png
ORGANIZER;CN="Dru%C5%A1tvo Parada Ponosa":MAILTO:info@ljubljanapride.org
END:VEVENT
END:VCALENDAR