BEGIN:VCALENDAR
VERSION:2.0
PRODID:-//Društvo Parada Ponosa - ECPv6.15.17.1//NONSGML v1.0//EN
CALSCALE:GREGORIAN
METHOD:PUBLISH
X-WR-CALNAME:Društvo Parada Ponosa
X-ORIGINAL-URL:https://ljubljanapride.org
X-WR-CALDESC:Dogodki za Društvo Parada Ponosa
REFRESH-INTERVAL;VALUE=DURATION:PT1H
X-Robots-Tag:noindex
X-PUBLISHED-TTL:PT1H
BEGIN:VTIMEZONE
TZID:Europe/Ljubljana
BEGIN:DAYLIGHT
TZOFFSETFROM:+0100
TZOFFSETTO:+0200
TZNAME:CEST
DTSTART:20210328T010000
END:DAYLIGHT
BEGIN:STANDARD
TZOFFSETFROM:+0200
TZOFFSETTO:+0100
TZNAME:CET
DTSTART:20211031T010000
END:STANDARD
BEGIN:DAYLIGHT
TZOFFSETFROM:+0100
TZOFFSETTO:+0200
TZNAME:CEST
DTSTART:20220327T010000
END:DAYLIGHT
BEGIN:STANDARD
TZOFFSETFROM:+0200
TZOFFSETTO:+0100
TZNAME:CET
DTSTART:20221030T010000
END:STANDARD
BEGIN:DAYLIGHT
TZOFFSETFROM:+0100
TZOFFSETTO:+0200
TZNAME:CEST
DTSTART:20230326T010000
END:DAYLIGHT
BEGIN:STANDARD
TZOFFSETFROM:+0200
TZOFFSETTO:+0100
TZNAME:CET
DTSTART:20231029T010000
END:STANDARD
END:VTIMEZONE
BEGIN:VEVENT
DTSTART;VALUE=DATE:20220905
DTEND;VALUE=DATE:20220910
DTSTAMP:20260421T114506
CREATED:20220801T063438Z
LAST-MODIFIED:20220823T100942Z
UID:5892-1662364800-1662710399@ljubljanapride.org
SUMMARY:Izobraževanje: Carousel of human rights
DESCRIPTION:Vabimo vas na izobraževanje Carrousel of human rights\, ki ga soorganizirata Društvo Lojtra in Društvo Parada ponosa. V 4 dneh vam bomo predstavile_i najpomembnejše koncepte in temelje izobraževanja o človekovih pravicah. \nPRIJAVITE SE TUKAJ: https://tinyurl.com/4637a9bh \nKomu je izobraževanje namenjeno? \n\ntrenerkam_jem\,\nizobraževalkam_cem\,\nučiteljicam_em\,\nmladinskim delavkam_cem\,\n\nki bi rade_i spoznale_i osnove in tudi v svoji praksi uporabljale_i različne metodologije\, da mladim in širši publiki približajo področje človekovih pravic\, varnega prostora in vključevanja. \nKdaj? Izobraževanje se bo začelo v ponedeljek 5. 9. popoldne\, končalo pa v četrtek\, 8.9. s kosilom. \nKje? V Hostlu Pekarna\, v Mariboru. \nZa kaj je poskrbljeno? Poskrbljeno je za nastanitev\, prehrano\, program in gradiva. \nKaj morate storiti ve_i? Izpolniti prijavnico in plačati kotizacijo 20 eur\, ki je pogoj za potrjeno prijavo. Navodila za nakazilo prejmete po tem\, ko se prijavite preko spletne prijavnice. \nPrijavite se lahko do 28. 8. 2022. Prijavnica: https://tinyurl.com/4637a9bh \nKakšna je vsebina izobraževanja? Izobraževanje temelji na konceptu priročnikov Compass in Bookmarks\, ki ga je izdal Svet Evrope in ponuja inovativne metode\, ki mladim in drugim ciljnim skupinam približajo razumevanje dinamik sovražnega govora\, človekovih pravic in medkulturnega izobraževanja. Ter na priročniku Vključujoče organizacije\, ki ga je izdalo Društvo parada ponosa s partnerji\, ki se poglablja v prakse vključujočnosti in varnega prostora. V 3 dneh boste tako spoznale_i različne koncepte ter imele_i priložnost preizkusiti v praksi kako delujejo metodologije in kako jih lahko uporabljate pri svojem delu. \nZa več informacij se lahko obrnete na: smursec@gmail.com\, tina@drustvolojtra.si ali 040697325 – Maja.
URL:https://ljubljanapride.org/event/izobrazevanje-carousel-of-human-rights/
LOCATION:Hostel Pekarna\, 2000 Maribor
ATTACH;FMTTYPE=image/png:https://ljubljanapride.org/wp-content/uploads/2022/08/Carousel_ig-1.png
END:VEVENT
END:VCALENDAR