BEGIN:VCALENDAR
VERSION:2.0
PRODID:-//Društvo Parada Ponosa - ECPv6.15.17.1//NONSGML v1.0//EN
CALSCALE:GREGORIAN
METHOD:PUBLISH
X-WR-CALNAME:Društvo Parada Ponosa
X-ORIGINAL-URL:https://ljubljanapride.org
X-WR-CALDESC:Dogodki za Društvo Parada Ponosa
REFRESH-INTERVAL;VALUE=DURATION:PT1H
X-Robots-Tag:noindex
X-PUBLISHED-TTL:PT1H
BEGIN:VTIMEZONE
TZID:Europe/Ljubljana
BEGIN:DAYLIGHT
TZOFFSETFROM:+0100
TZOFFSETTO:+0200
TZNAME:CEST
DTSTART:20230326T010000
END:DAYLIGHT
BEGIN:STANDARD
TZOFFSETFROM:+0200
TZOFFSETTO:+0100
TZNAME:CET
DTSTART:20231029T010000
END:STANDARD
BEGIN:DAYLIGHT
TZOFFSETFROM:+0100
TZOFFSETTO:+0200
TZNAME:CEST
DTSTART:20240331T010000
END:DAYLIGHT
BEGIN:STANDARD
TZOFFSETFROM:+0200
TZOFFSETTO:+0100
TZNAME:CET
DTSTART:20241027T010000
END:STANDARD
BEGIN:DAYLIGHT
TZOFFSETFROM:+0100
TZOFFSETTO:+0200
TZNAME:CEST
DTSTART:20250330T010000
END:DAYLIGHT
BEGIN:STANDARD
TZOFFSETFROM:+0200
TZOFFSETTO:+0100
TZNAME:CET
DTSTART:20251026T010000
END:STANDARD
END:VTIMEZONE
BEGIN:VEVENT
DTSTART;TZID=Europe/Ljubljana:20240923T080000
DTEND;TZID=Europe/Ljubljana:20240926T170000
DTSTAMP:20260420T004722
CREATED:20240925T074752Z
LAST-MODIFIED:20240925T074752Z
UID:9631-1727078400-1727370000@ljubljanapride.org
SUMMARY:Izvedba delavnic na Gimnaziji Ptuj
DESCRIPTION:V okviru aktivnosti Mreže vključujočih šol Slovenije je trenerska ekipa Društva Parada ponosa izvedla delavnice za dijakinje_e 2. letnikov na temo “Moj razred kot vključujoča skupnost”. \nZa finančno podporo se zahvaljujemo ambasadi Kraljevine Nizozemske\, ki nam omogoče izvedbo aktivnosti za Mrežo Vključujoičih šol Slovenije v letu 2024.
URL:https://ljubljanapride.org/event/izvedba-delavnic-na-gimnaziji-ptuj/
LOCATION:Gimnazija Ptuj (Volkmerjeva cesta 15\, Ptuj)\, Volkmerjeva cesta 15\,\, Ptuj
ATTACH;FMTTYPE=image/png:https://ljubljanapride.org/wp-content/uploads/2024/09/1-1.png
END:VEVENT
END:VCALENDAR