BEGIN:VCALENDAR
VERSION:2.0
PRODID:-//Društvo Parada Ponosa - ECPv6.15.17.1//NONSGML v1.0//EN
CALSCALE:GREGORIAN
METHOD:PUBLISH
X-WR-CALNAME:Društvo Parada Ponosa
X-ORIGINAL-URL:https://ljubljanapride.org
X-WR-CALDESC:Dogodki za Društvo Parada Ponosa
REFRESH-INTERVAL;VALUE=DURATION:PT1H
X-Robots-Tag:noindex
X-PUBLISHED-TTL:PT1H
BEGIN:VTIMEZONE
TZID:Europe/Ljubljana
BEGIN:DAYLIGHT
TZOFFSETFROM:+0100
TZOFFSETTO:+0200
TZNAME:CEST
DTSTART:20240331T010000
END:DAYLIGHT
BEGIN:STANDARD
TZOFFSETFROM:+0200
TZOFFSETTO:+0100
TZNAME:CET
DTSTART:20241027T010000
END:STANDARD
BEGIN:DAYLIGHT
TZOFFSETFROM:+0100
TZOFFSETTO:+0200
TZNAME:CEST
DTSTART:20250330T010000
END:DAYLIGHT
BEGIN:STANDARD
TZOFFSETFROM:+0200
TZOFFSETTO:+0100
TZNAME:CET
DTSTART:20251026T010000
END:STANDARD
BEGIN:DAYLIGHT
TZOFFSETFROM:+0100
TZOFFSETTO:+0200
TZNAME:CEST
DTSTART:20260329T010000
END:DAYLIGHT
BEGIN:STANDARD
TZOFFSETFROM:+0200
TZOFFSETTO:+0100
TZNAME:CET
DTSTART:20261025T010000
END:STANDARD
END:VTIMEZONE
BEGIN:VEVENT
DTSTART;TZID=Europe/Ljubljana:20251119T080000
DTEND;TZID=Europe/Ljubljana:20251123T170000
DTSTAMP:20260420T010449
CREATED:20251106T133131Z
LAST-MODIFIED:20251106T133131Z
UID:11050-1763539200-1763917200@ljubljanapride.org
SUMMARY:Job Shadowing Amsterdam – konferenca Queer Asylum in Europe
DESCRIPTION:Dve članici_ka naše SQVOT ekipe se v novembru z velikim veseljem udeležujeta job shadowinga v Amsterdamu\, ki ga gosti organizacija COC Netherlands. \nOsrednji del obiska bo udeležba na COC konferenci »Shaping Tomorrow: Queer Asylum in Europe«\, ki bo ponudila bogat program delavnic\, omizij in pogovorov. To bo izjemna priložnost za povezovanje ter izmenjavo znanj in izkušenj med organizacijami z vse Evrope\, ki delajo z LGBTIQ+ prosilkami_ci za mednarodno zaščito. \nVeselimo se krepitve sodelovanja s COC ter vključevanja dobrih praks in izkušenj iz tujine v naše delo v Ljubljani! \nTa aktivnost je financirana s strani Evropske unije.
URL:https://ljubljanapride.org/event/job-shadowing-amsterdam-konferenca-queer-asylum-in-europe/
ATTACH;FMTTYPE=image/jpeg:https://ljubljanapride.org/wp-content/uploads/2025/11/AMS_Version_4-scaled.jpg
END:VEVENT
END:VCALENDAR