BEGIN:VCALENDAR
VERSION:2.0
PRODID:-//Društvo Parada Ponosa - ECPv6.15.17.1//NONSGML v1.0//EN
CALSCALE:GREGORIAN
METHOD:PUBLISH
X-WR-CALNAME:Društvo Parada Ponosa
X-ORIGINAL-URL:https://ljubljanapride.org
X-WR-CALDESC:Dogodki za Društvo Parada Ponosa
REFRESH-INTERVAL;VALUE=DURATION:PT1H
X-Robots-Tag:noindex
X-PUBLISHED-TTL:PT1H
BEGIN:VTIMEZONE
TZID:Europe/Helsinki
BEGIN:DAYLIGHT
TZOFFSETFROM:+0200
TZOFFSETTO:+0300
TZNAME:EEST
DTSTART:20200329T010000
END:DAYLIGHT
BEGIN:STANDARD
TZOFFSETFROM:+0300
TZOFFSETTO:+0200
TZNAME:EET
DTSTART:20201025T010000
END:STANDARD
BEGIN:DAYLIGHT
TZOFFSETFROM:+0200
TZOFFSETTO:+0300
TZNAME:EEST
DTSTART:20210328T010000
END:DAYLIGHT
BEGIN:STANDARD
TZOFFSETFROM:+0300
TZOFFSETTO:+0200
TZNAME:EET
DTSTART:20211031T010000
END:STANDARD
BEGIN:DAYLIGHT
TZOFFSETFROM:+0200
TZOFFSETTO:+0300
TZNAME:EEST
DTSTART:20220327T010000
END:DAYLIGHT
BEGIN:STANDARD
TZOFFSETFROM:+0300
TZOFFSETTO:+0200
TZNAME:EET
DTSTART:20221030T010000
END:STANDARD
END:VTIMEZONE
BEGIN:VEVENT
DTSTART;TZID=Europe/Helsinki:20210422T170000
DTEND;TZID=Europe/Helsinki:20210422T190000
DTSTAMP:20260424T102624
CREATED:20210414T101040Z
LAST-MODIFIED:20210414T101040Z
UID:4799-1619110800-1619118000@ljubljanapride.org
SUMMARY:Kako pa ti živiš?
DESCRIPTION:Vprašanje\, kje\, kako\, s kom živiš\, lahko prinese veliko izzivov\, sploh za mlade LGBTIQ+ osebe. V LGBTIQ+ skupnosti pa pogosto nimamo prostora za pogovor o teh vprašanjih.  \nZato vas vabimo na voden skupinski pogovor\, kjer lahko delite svoje izkušnje\, potarnate o svoji situaciji\, poiščete ali ponudite nasvet in srečate druge osebe\, ki se srečujejo s podobnimi izzivi. \n  \nSkupaj si bomo postavile_i vprašanja\, kot so: \n\nKako kot LGBTIQ+ oseba čim bolj uspešno iskati stanovanje?\nKako navigirati odnose s starši in družino\, ko živimo doma?\nKako naslavljati finančne in stanovanjske posledice korone?\nKakšne oblike državne finančne pomoči obstajajo in kako do njih dostopati?\nKako se odločiti\, ali se bomo razkrile_i cimram_om\, najemodajalkam_cem …?\nKako reagirati na homo-/bi-/transfobijo v različnih stanovanjskih situacijah?\nKaj storiti\, če ostanemo brez (primernega) doma?\nIn še mnogo drugih vprašanj o stanovanjskih situacijah mladih LGBTIQ+ oseb.\n\n  \nPogovoru o izzivih\, s katerimi se srečujemo\, bo sledilo skupno iskanje rešitev in deljenje dobrih praks. \n  \nPrijave so obvezne. Prijavi se: https://forms.gle/a6XxtByaCcot2TyN9  \n  \nPogovorno skupino tokrat izvajamo v sodelovanju z Mladinskim kulturnim centrom Maribor. Če bo dovoljeno zbiranje\, bo srečanje potekalo v živo v prostorih MKC-ja\, v nasprotnem primeru pa se bo odvilo na spletnem orodju Zoom (povezavo do dogodka prejmete na e-mail nekaj ur pred začetkom). V primeru kakršnih koli vprašanj nam pišite na info@ljubljanapride.org. \n  \nDogodek poteka v sodelovanju z MKC Maribor.
URL:https://ljubljanapride.org/event/kako-pa-ti-zivis-4/
ATTACH;FMTTYPE=image/png:https://ljubljanapride.org/wp-content/uploads/2021/04/SQVOT_Kako-pa-ti-zivis_fb.png
END:VEVENT
END:VCALENDAR