BEGIN:VCALENDAR
VERSION:2.0
PRODID:-//Društvo Parada Ponosa - ECPv6.15.17.1//NONSGML v1.0//EN
CALSCALE:GREGORIAN
METHOD:PUBLISH
X-WR-CALNAME:Društvo Parada Ponosa
X-ORIGINAL-URL:https://ljubljanapride.org
X-WR-CALDESC:Dogodki za Društvo Parada Ponosa
REFRESH-INTERVAL;VALUE=DURATION:PT1H
X-Robots-Tag:noindex
X-PUBLISHED-TTL:PT1H
BEGIN:VTIMEZONE
TZID:Europe/Helsinki
BEGIN:DAYLIGHT
TZOFFSETFROM:+0200
TZOFFSETTO:+0300
TZNAME:EEST
DTSTART:20200329T010000
END:DAYLIGHT
BEGIN:STANDARD
TZOFFSETFROM:+0300
TZOFFSETTO:+0200
TZNAME:EET
DTSTART:20201025T010000
END:STANDARD
BEGIN:DAYLIGHT
TZOFFSETFROM:+0200
TZOFFSETTO:+0300
TZNAME:EEST
DTSTART:20210328T010000
END:DAYLIGHT
BEGIN:STANDARD
TZOFFSETFROM:+0300
TZOFFSETTO:+0200
TZNAME:EET
DTSTART:20211031T010000
END:STANDARD
BEGIN:DAYLIGHT
TZOFFSETFROM:+0200
TZOFFSETTO:+0300
TZNAME:EEST
DTSTART:20220327T010000
END:DAYLIGHT
BEGIN:STANDARD
TZOFFSETFROM:+0300
TZOFFSETTO:+0200
TZNAME:EET
DTSTART:20221030T010000
END:STANDARD
END:VTIMEZONE
BEGIN:VEVENT
DTSTART;TZID=Europe/Helsinki:20210107T160000
DTEND;TZID=Europe/Helsinki:20210107T180000
DTSTAMP:20260424T120615
CREATED:20201228T155925Z
LAST-MODIFIED:20201228T155925Z
UID:4554-1610035200-1610042400@ljubljanapride.org
SUMMARY:Kako pa ti živiš - bivanje med prazniki
DESCRIPTION:Kako pa ti živiš? je pogovorna skupina o stanovanjski problematiki za LGBTIQ+ mlade. Je voden skupinski pogovor\, kjer lahko delite svoje izkušnje\, potarnate o svoji situaciji\, poiščete ali ponudite nasvet in srečate druge osebe\, ki se srečujejo s podobnimi izzivi. Pogovoru o izzivih\, s katerimi se srečujemo\, sledi skupno iskanje rešitev in deljenje dobrih praks. \nTokrat se bomo posvetile_i našim stanovanjskim situacijam med prazniki. \n\nKako si preživel_a praznike? S kom in kje?\nKako so ukrepi za zajezitev koronavirusa vplivali na tvoje okoliščine\, načrte in počutje med prazniki?\nKakšne strategije si uporabljal_a za lažje preživjetje praznikov?\nKako si se soočal_a z občutki osamljenosti in izoliranosti?\n\nPridruži se nam in skupaj poiščimo odgovore in rešitve za ta in druga vprašanja. \nPRIJAVI SE TUKAJ:  https://forms.gle/LJoWXUNnsGWvARJQ8 \nSkupine potekajo dvakrat mesečno in zaradi trenutne situacije do nadaljnjega na spletu preko spletnega orodja Zoom. Link na dogodek dobite na email par ur pred začetkom. V primeru kakršnihkoli vprašanj nam pišite na info@ljubljanapride.org. \nDogodek poteka v slovenskem jeziku. \nNaslednje srečanje bo potekalo v ponedeljek\, 18.1.2021 ob 18h. \nDogodek financira Evropska mladinska fundacija (EYF).
URL:https://ljubljanapride.org/event/kako-pa-ti-zivis-bivanje-med-prazniki/
LOCATION:preko spleta
ATTACH;FMTTYPE=image/png:https://ljubljanapride.org/wp-content/uploads/2020/12/SQVOT_Kako-pa-ti-zivis_fb-1.png
END:VEVENT
END:VCALENDAR