BEGIN:VCALENDAR
VERSION:2.0
PRODID:-//Društvo Parada Ponosa - ECPv6.15.17.1//NONSGML v1.0//EN
CALSCALE:GREGORIAN
METHOD:PUBLISH
X-WR-CALNAME:Društvo Parada Ponosa
X-ORIGINAL-URL:https://ljubljanapride.org
X-WR-CALDESC:Dogodki za Društvo Parada Ponosa
REFRESH-INTERVAL;VALUE=DURATION:PT1H
X-Robots-Tag:noindex
X-PUBLISHED-TTL:PT1H
BEGIN:VTIMEZONE
TZID:Europe/Helsinki
BEGIN:DAYLIGHT
TZOFFSETFROM:+0200
TZOFFSETTO:+0300
TZNAME:EEST
DTSTART:20200329T010000
END:DAYLIGHT
BEGIN:STANDARD
TZOFFSETFROM:+0300
TZOFFSETTO:+0200
TZNAME:EET
DTSTART:20201025T010000
END:STANDARD
BEGIN:DAYLIGHT
TZOFFSETFROM:+0200
TZOFFSETTO:+0300
TZNAME:EEST
DTSTART:20210328T010000
END:DAYLIGHT
BEGIN:STANDARD
TZOFFSETFROM:+0300
TZOFFSETTO:+0200
TZNAME:EET
DTSTART:20211031T010000
END:STANDARD
BEGIN:DAYLIGHT
TZOFFSETFROM:+0200
TZOFFSETTO:+0300
TZNAME:EEST
DTSTART:20220327T010000
END:DAYLIGHT
BEGIN:STANDARD
TZOFFSETFROM:+0300
TZOFFSETTO:+0200
TZNAME:EET
DTSTART:20221030T010000
END:STANDARD
END:VTIMEZONE
BEGIN:VEVENT
DTSTART;TZID=Europe/Helsinki:20210128T160000
DTEND;TZID=Europe/Helsinki:20210128T180000
DTSTAMP:20260424T084440
CREATED:20210120T110244Z
LAST-MODIFIED:20210120T110244Z
UID:4597-1611849600-1611856800@ljubljanapride.org
SUMMARY:Kako pa ti živiš? Bivanje v nesprejemajočem okolju
DESCRIPTION:Kako pa ti živiš? je pogovorna skupina o stanovanjski problematiki za LGBTIQ+ mlade. \nJe voden skupinski pogovor\, kjer lahko delite svoje izkušnje\, potarnate o svoji situaciji\, poiščete ali ponudite nasvet in srečate druge osebe\, ki se srečujejo s podobnimi izzivi. Pogovoru o izzivih\, s katerimi se srečujemo\, sledi skupno iskanje rešitev in deljenje dobrih praks. \n  \nTokrat se bomo posvetile_i tematiki bivanje v nesprejemajočem okolju\, z zakrivanjem identitete. \n\nSi se ali se v svoji stanovanjski situaciji soočaš z nesprejemajočem okoljem?\n Kaj ti preprečuje\, da se razkriješ cimram_cimrom in/ali lastnicam_kom?\n Imaš izkušnjo biti nerazkrit_a kjer živiš?\n Si se bil_a prisiljen_a v času COVIDa preseliti v okolje\, kjer nisi razkrit_a?\n Kako tvoje nerazkritje vpliva na tvoje počutje in odnose kjer živiš?\n Kaj bi ti pomagalo pri soočanju z nesprejemajočim okoljem?\n Kako lahko najdem okolje\, ki je sprejemajoče za LGBTIQ+ osebe?\n\n  \nPridruži se nam in skupaj poiščimo odgovore in rešitve za ta in druga vprašanja. \nPRIJAVI SE   https://forms.gle/s7uPZt9EJhZp9tNd9 \n  \nSkupine potekajo dva- do trikrat mesečno in zaradi trenutne situacije do nadaljnjega na spletu preko spletnega orodja Zoom. \nPovezavo do dogodka dobite po e-mailu nekaj ur pred začetkom. V primeru kakršnihkoli vprašanj nam pišite na info@ljubljanapride.org. \n  \nDogodek poteka v slovenskem jeziku.\nNaslednje srečanje bo potekalo v četrtek\, 11. 2. 2021\, ob 16.00. \n  \nDogodek financira Evropska mladinska fundacija (EYF).
URL:https://ljubljanapride.org/event/kako-pa-ti-zivis-bivanje-v-nesprejemajocem-okolju/
LOCATION:Zoom
ATTACH;FMTTYPE=image/png:https://ljubljanapride.org/wp-content/uploads/2020/12/SQVOT_Kako-pa-ti-zivis_fb-1.png
END:VEVENT
END:VCALENDAR