BEGIN:VCALENDAR
VERSION:2.0
PRODID:-//Društvo Parada Ponosa - ECPv6.15.17.1//NONSGML v1.0//EN
CALSCALE:GREGORIAN
METHOD:PUBLISH
X-WR-CALNAME:Društvo Parada Ponosa
X-ORIGINAL-URL:https://ljubljanapride.org
X-WR-CALDESC:Dogodki za Društvo Parada Ponosa
REFRESH-INTERVAL;VALUE=DURATION:PT1H
X-Robots-Tag:noindex
X-PUBLISHED-TTL:PT1H
BEGIN:VTIMEZONE
TZID:Europe/Helsinki
BEGIN:DAYLIGHT
TZOFFSETFROM:+0200
TZOFFSETTO:+0300
TZNAME:EEST
DTSTART:20200329T010000
END:DAYLIGHT
BEGIN:STANDARD
TZOFFSETFROM:+0300
TZOFFSETTO:+0200
TZNAME:EET
DTSTART:20201025T010000
END:STANDARD
BEGIN:DAYLIGHT
TZOFFSETFROM:+0200
TZOFFSETTO:+0300
TZNAME:EEST
DTSTART:20210328T010000
END:DAYLIGHT
BEGIN:STANDARD
TZOFFSETFROM:+0300
TZOFFSETTO:+0200
TZNAME:EET
DTSTART:20211031T010000
END:STANDARD
BEGIN:DAYLIGHT
TZOFFSETFROM:+0200
TZOFFSETTO:+0300
TZNAME:EEST
DTSTART:20220327T010000
END:DAYLIGHT
BEGIN:STANDARD
TZOFFSETFROM:+0300
TZOFFSETTO:+0200
TZNAME:EET
DTSTART:20221030T010000
END:STANDARD
END:VTIMEZONE
BEGIN:VEVENT
DTSTART;TZID=Europe/Helsinki:20210225T170000
DTEND;TZID=Europe/Helsinki:20210225T190000
DTSTAMP:20260424T053625
CREATED:20210225T092923Z
LAST-MODIFIED:20210225T092923Z
UID:4653-1614272400-1614279600@ljubljanapride.org
SUMMARY:Kako pa ti živiš? - Naj se sliši tvoj glas!
DESCRIPTION:Kako pa ti živiš? je pogovorna skupina o stanovanjski problematiki za LGBTIQ+ mlade.   \n  \nNa preteklih skupinah smo se pogovarjale_i o razkritju\, o pravicah najemnic_kov\, o življenju v nesprejejmajočem okolju in o tem kako je pandemija poglobila stanovanjsko stisko LGBTIQ+ oseb. Izpostavile_i smo več težav\, iskale_i rešitve in iz vaših izkušenj pripravile_i nekaj priporočil za boljšo stanovanjsko vključenost LGBTIQ+ mladih. \n  \nSrečanje bo potekalo v obliki vodenega skupinskega pogovora\, pregleda in refleksije gradiv in skupinskega oblikovanja manjkajočih priporočil oz. dopolnitve obstoječih. Pretresle_i bomo izpostavljene izzive\, predlagane rešitve ter razmislile_i kaj potrebujemo za boljšo stanovanjsko vključenost. \n  \nPriduži se nam\, tokrat v ŽIVO v prostorih Društva Parada ponosa in prispevaj svoj glas! \n  \nPRIJAVI SE: https://forms.gle/WLUX4PZVQ4gmnPz99  \n  \nDogodek poteka v slovenskem jeziku.  \nDogodek bo potekal v skladu s standardi NIJZ in ga se lahko udeleži do 9 oseb. V času trajanja dogodka je nošenje mask obvezno. Zagotovljena bo primerna razdalja med udeleženimi in možnost uporabe dezinfekcijskih sredstev.  \nDogodek financira Evropska mladinska fundacija (EYF).
URL:https://ljubljanapride.org/event/kako-pa-ti-zivis-naj-se-slisi-tvoj-glas/
LOCATION:Društvo Parada ponosa\, Dunajska cesta 10
ATTACH;FMTTYPE=image/png:https://ljubljanapride.org/wp-content/uploads/2021/02/SQVOT_Kako-pa-ti-zivis_fb-1.png
END:VEVENT
END:VCALENDAR