BEGIN:VCALENDAR
VERSION:2.0
PRODID:-//Društvo Parada Ponosa - ECPv6.15.17.1//NONSGML v1.0//EN
CALSCALE:GREGORIAN
METHOD:PUBLISH
X-WR-CALNAME:Društvo Parada Ponosa
X-ORIGINAL-URL:https://ljubljanapride.org
X-WR-CALDESC:Dogodki za Društvo Parada Ponosa
REFRESH-INTERVAL;VALUE=DURATION:PT1H
X-Robots-Tag:noindex
X-PUBLISHED-TTL:PT1H
BEGIN:VTIMEZONE
TZID:Europe/Helsinki
BEGIN:DAYLIGHT
TZOFFSETFROM:+0200
TZOFFSETTO:+0300
TZNAME:EEST
DTSTART:20190331T010000
END:DAYLIGHT
BEGIN:STANDARD
TZOFFSETFROM:+0300
TZOFFSETTO:+0200
TZNAME:EET
DTSTART:20191027T010000
END:STANDARD
BEGIN:DAYLIGHT
TZOFFSETFROM:+0200
TZOFFSETTO:+0300
TZNAME:EEST
DTSTART:20200329T010000
END:DAYLIGHT
BEGIN:STANDARD
TZOFFSETFROM:+0300
TZOFFSETTO:+0200
TZNAME:EET
DTSTART:20201025T010000
END:STANDARD
BEGIN:DAYLIGHT
TZOFFSETFROM:+0200
TZOFFSETTO:+0300
TZNAME:EEST
DTSTART:20210328T010000
END:DAYLIGHT
BEGIN:STANDARD
TZOFFSETFROM:+0300
TZOFFSETTO:+0200
TZNAME:EET
DTSTART:20211031T010000
END:STANDARD
END:VTIMEZONE
BEGIN:VEVENT
DTSTART;TZID=Europe/Helsinki:20200919T190000
DTEND;TZID=Europe/Helsinki:20200919T210000
DTSTAMP:20260425T123032
CREATED:20200901T114659Z
LAST-MODIFIED:20200914T110354Z
UID:3897-1600542000-1600549200@ljubljanapride.org
SUMMARY:Kavarniški večer: Otvoritev sezone
DESCRIPTION:Organizator: DIC Legebitra in Klub Tiffany (ŠKUC – Kulturni center Q) \nJezik: slovenski \n  \nVabljeni_e na otvoritev sezone kavarniških večerov\, katerega osrednji dogodek nosi naslov Zlate Tiffanije »green room«. Poleg osrednjega dogodka za vas pripravljamo tudi glasbene točke. Tokrat bo z nami tudi že poznan glasbenik Filip Vurnik. Morda pa se nam pridruži še ena glasbena skupina. Za več – stay tuned! \n* \nNa pogovoru bomo gostile_i nekatere pretekle zmagovalce_ke Zlatih Tifanij in trenutne nominirance_ke. Poglobile_i se bomo v zgodovino in nastanek nagrad\, ki so v preteklih letih zaznamovale LGBT+ skupnost in tako vsako leto ovekovečile posameznike_ce\, skupine\, večje dogodke in dosežke\, ki so zaznamovale LGBT+ skupnost pri nas. \nZlate Tifanije\, ki bodo letos podeljene že osmo leto zapored\, so edinstvene nagrade za dosežke oseb\, ki so zaznamovale domačo LGBT+ sceno v letu 2019. Nominiranci_ke za Zlate Tifanije so s svojimi edinstvenimi kvalitetami v preteklem letu dodobra začinili_e dogajanje na LGBT+ sceni. \n* \nFilip Vurnik (1994) se z glasbo in pisanjem pesmi ukvarja že več kot deset let. Trenutno končuje magistrski študij na oddelku Likovne pedagogike na Pedagoški fakulteti UL. Kitaro se je pri šestnajstih letih naučil igrati sam. Z igranjem kitare pri mladinskem pevskem zboru Na_Vdih je med letoma 2013 in 2015 utrjeval svoje znanje. Z avtorskimi pesmimi se je prvič predstavil na lastni samostojni likovni razstavi Čudeži leta 2013 v Radovljici\, svoj prvi samostojni nastop pa je imel leta 2015 v sklopu Kavarniških večerov. Od tedaj se redno pojavlja v sklopu taistih dogodkov in pa tudi drugje po LGBT sceni. Svoje pesmi opisuje kot življenjske\, prepletene s trenutnimi čustvi\, bolečino\, srečo\, transspolnostjo in ljubeznijo. Podobne tematike umešča tudi v svojo poezijo in likovno umetnost. \n* \nVabljene_i\, da se nam pridružite na vrtu Kluba Tiffany v četrtek\, 17. 9. 2020 od 19te do 21te ure. Kot vedno vas bomo pričakale_i s kavo\, čajem in manjšimi prigrizki. \n____ \nPOMEMBNO: \nNa letni vrt prihajajte le\, če ste zdravi_e\, nimate simptomov okužbe z novim koronavirusom in niste bile_i izpostavljene_i tveganjem za okužbo z novim koronavirusom. \nZa vstop v zaprte prostore potrebujete masko\, pred vstopom si razkužite roke. \nUpoštevajte priporočila NIJZ dostopna na povezavi: \nhttps://www.nijz.si/sl/preprecevanje-okuzbe-z-virusom-sars-cov-2019 \nhttps://www.nijz.si/sites/www.nijz.si/files/uploaded/priporocila_organizatorje_prireditev_za_preprecevanje_sirjenja_okuzbe_z_virusom_sars-cov-2.pdf \n________________________________________________ \nKavarniški večeri so nastali s ciljem odpiranja javnega prostora ustvarjalkam_cem LGBTQ na vseh področjih umetnosti in želje po ustvarjanju novega prostora za druženje\, uživanje ob glasbi\, skodelici čaja ali kave\, smehu in dobri družbi na pobudo Društva Appareo\, Klub Tiffany in Legebitra \nNamen projekta je ponuditi mladim ustvarjalkam_cem prostor\, v katerem bodo lahko zablestele_i s svojim talentom in hkrati gledalkam_cem ponuditi vsebine\, ki so sproščene\, kvalitetne in naše. Vsak tretji četrtek v mesecu se Klub Tiffany prelevi v elegantno kavarno\, ki vabi k druženju\, uživanju ob najljubši pijači in predajanju umetniškemu programu\, ki ga za obiskovalke_ce pripravljajo mladi. \nČe pa se kot LGBTQ+ ustvarjalke_ci tudi same_i najdete v tem opisu in bi si želele_i predstaviti se širši publiki z svojimi deli\, glasbenimi nastopi\, predstavami in še mnogo drugega\, vas vabimo\, da nam pišete na katja.sesek@legebitra.si ali kulturnicenterq@gmail.com in tako skupaj ustvarimo čudovit večer. \nKavarniške večer organizirata Društvo informacijski center Legebitra in Klub Tiffany (ŠKUC – Kulturni center Q).
URL:https://ljubljanapride.org/event/kavarniski-vecer-otvoritev-sezone/
LOCATION:Klub Tiffany\, Masarykova 24\, 1000 Ljubljana
ATTACH;FMTTYPE=image/jpeg:https://ljubljanapride.org/wp-content/uploads/2020/09/118158441_3394741193897619_8939055411540690086_n-Small.jpg
END:VEVENT
END:VCALENDAR