BEGIN:VCALENDAR
VERSION:2.0
PRODID:-//Društvo Parada Ponosa - ECPv6.15.17.1//NONSGML v1.0//EN
CALSCALE:GREGORIAN
METHOD:PUBLISH
X-WR-CALNAME:Društvo Parada Ponosa
X-ORIGINAL-URL:https://ljubljanapride.org
X-WR-CALDESC:Dogodki za Društvo Parada Ponosa
REFRESH-INTERVAL;VALUE=DURATION:PT1H
X-Robots-Tag:noindex
X-PUBLISHED-TTL:PT1H
BEGIN:VTIMEZONE
TZID:Europe/Ljubljana
BEGIN:DAYLIGHT
TZOFFSETFROM:+0100
TZOFFSETTO:+0200
TZNAME:CEST
DTSTART:20240331T010000
END:DAYLIGHT
BEGIN:STANDARD
TZOFFSETFROM:+0200
TZOFFSETTO:+0100
TZNAME:CET
DTSTART:20241027T010000
END:STANDARD
BEGIN:DAYLIGHT
TZOFFSETFROM:+0100
TZOFFSETTO:+0200
TZNAME:CEST
DTSTART:20250330T010000
END:DAYLIGHT
BEGIN:STANDARD
TZOFFSETFROM:+0200
TZOFFSETTO:+0100
TZNAME:CET
DTSTART:20251026T010000
END:STANDARD
BEGIN:DAYLIGHT
TZOFFSETFROM:+0100
TZOFFSETTO:+0200
TZNAME:CEST
DTSTART:20260329T010000
END:DAYLIGHT
BEGIN:STANDARD
TZOFFSETFROM:+0200
TZOFFSETTO:+0100
TZNAME:CET
DTSTART:20261025T010000
END:STANDARD
END:VTIMEZONE
BEGIN:VEVENT
DTSTART;TZID=Europe/Ljubljana:20250306T180000
DTEND;TZID=Europe/Ljubljana:20250306T200000
DTSTAMP:20260419T203928
CREATED:20250305T180824Z
LAST-MODIFIED:20250305T180824Z
UID:10178-1741284000-1741291200@ljubljanapride.org
SUMMARY:Kofetkanje: Intersectionality
DESCRIPTION:Pridružite se nam na odprti razpravi\, kjer se bomo poglobile_i v to\, kaj dela prostore resnično “varne”. Raziskale_i bomo\, kako intersekcionalnost igra vlogo pri vključevanju\, dinamikah moči\, ki obstajajo\, in kako narediti prostore bolj podporne in prijetne za vse. \n✨ Teme vključujejo: \n\nKaj naredi prostor za vas varen ali nevaren?\nPomen varnih prostorov v današnjem svetu\nKako lahko naredimo prostore bolj vključujoče za vse identitete?\nNavigacijska moč in privilegij v naših skupnostih\n\nTo je priložnost\, da delite\, se učite in rastete z osebami\, katerim je tudi do ustvarjanja varnih in vključujočih prostorov 🌟
URL:https://ljubljanapride.org/event/kofetkanje-intersectionality/
LOCATION:Društvo Parada ponosa\, Dunajska cesta 10\, Ljubljana
ATTACH;FMTTYPE=image/jpeg:https://ljubljanapride.org/wp-content/uploads/2025/03/new-scaled.jpg
END:VEVENT
END:VCALENDAR