BEGIN:VCALENDAR
VERSION:2.0
PRODID:-//Društvo Parada Ponosa - ECPv6.15.17.1//NONSGML v1.0//EN
CALSCALE:GREGORIAN
METHOD:PUBLISH
X-WR-CALNAME:Društvo Parada Ponosa
X-ORIGINAL-URL:https://ljubljanapride.org
X-WR-CALDESC:Dogodki za Društvo Parada Ponosa
REFRESH-INTERVAL;VALUE=DURATION:PT1H
X-Robots-Tag:noindex
X-PUBLISHED-TTL:PT1H
BEGIN:VTIMEZONE
TZID:Europe/Ljubljana
BEGIN:DAYLIGHT
TZOFFSETFROM:+0100
TZOFFSETTO:+0200
TZNAME:CEST
DTSTART:20220327T010000
END:DAYLIGHT
BEGIN:STANDARD
TZOFFSETFROM:+0200
TZOFFSETTO:+0100
TZNAME:CET
DTSTART:20221030T010000
END:STANDARD
BEGIN:DAYLIGHT
TZOFFSETFROM:+0100
TZOFFSETTO:+0200
TZNAME:CEST
DTSTART:20230326T010000
END:DAYLIGHT
BEGIN:STANDARD
TZOFFSETFROM:+0200
TZOFFSETTO:+0100
TZNAME:CET
DTSTART:20231029T010000
END:STANDARD
BEGIN:DAYLIGHT
TZOFFSETFROM:+0100
TZOFFSETTO:+0200
TZNAME:CEST
DTSTART:20240331T010000
END:DAYLIGHT
BEGIN:STANDARD
TZOFFSETFROM:+0200
TZOFFSETTO:+0100
TZNAME:CET
DTSTART:20241027T010000
END:STANDARD
END:VTIMEZONE
BEGIN:VEVENT
DTSTART;VALUE=DATE:20231025
DTEND;VALUE=DATE:20231031
DTSTAMP:20260420T201709
CREATED:20230904T081014Z
LAST-MODIFIED:20230904T084429Z
UID:8068-1698220800-1698652799@ljubljanapride.org
SUMMARY:Konferenca ILGA-Europe
DESCRIPTION:Konferenca ILGA-Europe 2023 bo v Ljubljani in Društvo Parada ponosa je ena izmed lokalnih gostiteljic! \nTo je enkratna priložnost\, da se spoznaš in povežeš z več kot 300 mednarodnimi LGBTIQ+ aktivistkami_i\, ki jih bo konferenca pripeljala v Ljubljano. Tema letošnje konference je Čas\, da se izkažemo (Rising to the moment) in bo raziskovala načine\, kako se aktivistke_i kljub za gibanje težavnim časom še naprej trudimo najti nove in uspešne načine za politične in družbene spremembe v svojih državah in regiji. Za vas skupaj s sestrskimi LGBTIQ+ organizacijami pripravljamo bogat družabni program. Med drugim bomo ponovno uprizorile razstavo Mednarodna kvir solidarnost – Podobe trdoživosti in upanja; skupaj s True Colors United\, našo partnersko organizacijo iz Združenih držav Amerike\, pripravljamo delavnico na temo stanovanjske izključenosti in brezdomnosti mladih LGBTIQ+ oseb; organizirale_i pa bomo tudi nekaj ob-konferenčnih aktivnosti na temo LGBTIQ+ pravic v luči Evropskih volitev v 2024. \n\n\n\nVeč informacij o konferenci: https://www.ilga-europe.org/annual-conference-2023/
URL:https://ljubljanapride.org/event/konferenca-ilga-europe/
LOCATION:Ljubljana\, Ljubljana
ATTACH;FMTTYPE=image/jpeg:https://ljubljanapride.org/wp-content/uploads/2023/09/Konferenca-ILGA_ig-scaled.jpg
END:VEVENT
END:VCALENDAR