BEGIN:VCALENDAR
VERSION:2.0
PRODID:-//Društvo Parada Ponosa - ECPv6.15.17.1//NONSGML v1.0//EN
CALSCALE:GREGORIAN
METHOD:PUBLISH
X-WR-CALNAME:Društvo Parada Ponosa
X-ORIGINAL-URL:https://ljubljanapride.org
X-WR-CALDESC:Dogodki za Društvo Parada Ponosa
REFRESH-INTERVAL;VALUE=DURATION:PT1H
X-Robots-Tag:noindex
X-PUBLISHED-TTL:PT1H
BEGIN:VTIMEZONE
TZID:Europe/Ljubljana
BEGIN:DAYLIGHT
TZOFFSETFROM:+0100
TZOFFSETTO:+0200
TZNAME:CEST
DTSTART:20230326T010000
END:DAYLIGHT
BEGIN:STANDARD
TZOFFSETFROM:+0200
TZOFFSETTO:+0100
TZNAME:CET
DTSTART:20231029T010000
END:STANDARD
BEGIN:DAYLIGHT
TZOFFSETFROM:+0100
TZOFFSETTO:+0200
TZNAME:CEST
DTSTART:20240331T010000
END:DAYLIGHT
BEGIN:STANDARD
TZOFFSETFROM:+0200
TZOFFSETTO:+0100
TZNAME:CET
DTSTART:20241027T010000
END:STANDARD
BEGIN:DAYLIGHT
TZOFFSETFROM:+0100
TZOFFSETTO:+0200
TZNAME:CEST
DTSTART:20250330T010000
END:DAYLIGHT
BEGIN:STANDARD
TZOFFSETFROM:+0200
TZOFFSETTO:+0100
TZNAME:CET
DTSTART:20251026T010000
END:STANDARD
END:VTIMEZONE
BEGIN:VEVENT
DTSTART;TZID=Europe/Ljubljana:20240313T090000
DTEND;TZID=Europe/Ljubljana:20240313T160000
DTSTAMP:20260420T171410
CREATED:20240222T104754Z
LAST-MODIFIED:20240222T104754Z
UID:8819-1710320400-1710345600@ljubljanapride.org
SUMMARY:Konferenca Mladi v Evropskem Parlamentu
DESCRIPTION:Vabimo vas na poldnevno konferenco Mladi v Evropskem Parlamentu\, ki bo potekala v sredo\, 13. marca 2024\, v Hiši Evropske Unije med 9. in 16. uro. \nDogodek organiziramo v okviru projekta Mavrična Evropa in je namenjen spoznavanju delovanja Evropskega parlamenta in političnih skupin\, ki nas v njem zastopajo. Izpeljale_i bomo simulacijo odziva Evropskega parlamenta na krizno situacijo\, ki jo bomo predstavile_i na dogodku. \nRazpored dogodka: \n\n9.00: prihod in kava\n9.30: uvodni nagovori in osrednja predstavitev vloge Evropskega parlamenta\n10.35: odmor za kavo\n10.50: uvod v simulacijo\, oblikovanje ekip in navodila\n11.15: načrtovanje odziva na krizo (udeleženke_ci delajo v svojih dodeljenih skupinah in vlogah)\n12.15: odmor za kosilo\n13.00: priprava izjave\n13.30: seja parlamenta – predstavitev stališč 1-4 (ekipe predstavijo svoje predlagane rešitve)\n14.00: odmor\n14.15: seja parlamenta – predstavitev stališč 5-8\n14.45: refleksija in povzetek\n15.45: končna evalvacija dogodka in zaključek\n\nDogodek bo potekal v angleščini. \nZa udeležbo na dogodku se je potrebno prijaviti na: Prijava. \nPrijave zbiramo do ponedeljka\, 4. 3. 2024\, do konca dneva. \n 
URL:https://ljubljanapride.org/event/konferenca-mladi-v-evropskem-parlamentu/
LOCATION:Hiša EU\, Dunajska 20\, Ljubljana\, Slovenija
ATTACH;FMTTYPE=image/png:https://ljubljanapride.org/wp-content/uploads/2024/02/1-1.png
END:VEVENT
END:VCALENDAR