BEGIN:VCALENDAR
VERSION:2.0
PRODID:-//Društvo Parada Ponosa - ECPv6.15.17.1//NONSGML v1.0//EN
CALSCALE:GREGORIAN
METHOD:PUBLISH
X-WR-CALNAME:Društvo Parada Ponosa
X-ORIGINAL-URL:https://ljubljanapride.org
X-WR-CALDESC:Dogodki za Društvo Parada Ponosa
REFRESH-INTERVAL;VALUE=DURATION:PT1H
X-Robots-Tag:noindex
X-PUBLISHED-TTL:PT1H
BEGIN:VTIMEZONE
TZID:Europe/Ljubljana
BEGIN:DAYLIGHT
TZOFFSETFROM:+0100
TZOFFSETTO:+0200
TZNAME:CEST
DTSTART:20230326T010000
END:DAYLIGHT
BEGIN:STANDARD
TZOFFSETFROM:+0200
TZOFFSETTO:+0100
TZNAME:CET
DTSTART:20231029T010000
END:STANDARD
BEGIN:DAYLIGHT
TZOFFSETFROM:+0100
TZOFFSETTO:+0200
TZNAME:CEST
DTSTART:20240331T010000
END:DAYLIGHT
BEGIN:STANDARD
TZOFFSETFROM:+0200
TZOFFSETTO:+0100
TZNAME:CET
DTSTART:20241027T010000
END:STANDARD
BEGIN:DAYLIGHT
TZOFFSETFROM:+0100
TZOFFSETTO:+0200
TZNAME:CEST
DTSTART:20250330T010000
END:DAYLIGHT
BEGIN:STANDARD
TZOFFSETFROM:+0200
TZOFFSETTO:+0100
TZNAME:CET
DTSTART:20251026T010000
END:STANDARD
END:VTIMEZONE
BEGIN:VEVENT
DTSTART;TZID=Europe/Ljubljana:20240514T180000
DTEND;TZID=Europe/Ljubljana:20240514T180000
DTSTAMP:20260420T121638
CREATED:20240430T112610Z
LAST-MODIFIED:20240430T112610Z
UID:9300-1715709600-1715709600@ljubljanapride.org
SUMMARY:Kvir trajnostni aktivizem
DESCRIPTION:Ali si pripravljen_a sprostiti svojo ustvarjalnost in podpreti skupnost? Pridruži se nam na Pride Connects dogodku  v torek\, 14. maja\, ob 18.00 v pisarni Društva Parada ponosa! \nZdružile_i se bomo z namenom\,  da prazne pločevinke spremenimo v živahne simbole Parade. Skupaj bomo potaknjence posadile_i v reciklirane pločevinke\, ki jih bomo nato spremenile_i v trajnostne izdelke za Festival Parada ponosa 2024. Če imate doma kakšne potaknjence\, dobrodošle_i\, da jih prinesete s seboj\, najpomembnejše\, kar prinesite s seboj pa je pripravljenost za delo in dobra volja! Soustvarimo pozitiven vpliv med pripravljenostjo potopiti se v delo!
URL:https://ljubljanapride.org/event/kvir-trajnostni-aktivizem/
LOCATION:Društvo Parada ponosa\, Dunajska cesta 10\, Ljubljana
ATTACH;FMTTYPE=image/jpeg:https://ljubljanapride.org/wp-content/uploads/2024/04/pride-connect-2.jpg
END:VEVENT
END:VCALENDAR