BEGIN:VCALENDAR
VERSION:2.0
PRODID:-//Društvo Parada Ponosa - ECPv6.15.17.1//NONSGML v1.0//EN
CALSCALE:GREGORIAN
METHOD:PUBLISH
X-WR-CALNAME:Društvo Parada Ponosa
X-ORIGINAL-URL:https://ljubljanapride.org
X-WR-CALDESC:Dogodki za Društvo Parada Ponosa
REFRESH-INTERVAL;VALUE=DURATION:PT1H
X-Robots-Tag:noindex
X-PUBLISHED-TTL:PT1H
BEGIN:VTIMEZONE
TZID:Europe/Ljubljana
BEGIN:DAYLIGHT
TZOFFSETFROM:+0100
TZOFFSETTO:+0200
TZNAME:CEST
DTSTART:20240331T010000
END:DAYLIGHT
BEGIN:STANDARD
TZOFFSETFROM:+0200
TZOFFSETTO:+0100
TZNAME:CET
DTSTART:20241027T010000
END:STANDARD
BEGIN:DAYLIGHT
TZOFFSETFROM:+0100
TZOFFSETTO:+0200
TZNAME:CEST
DTSTART:20250330T010000
END:DAYLIGHT
BEGIN:STANDARD
TZOFFSETFROM:+0200
TZOFFSETTO:+0100
TZNAME:CET
DTSTART:20251026T010000
END:STANDARD
BEGIN:DAYLIGHT
TZOFFSETFROM:+0100
TZOFFSETTO:+0200
TZNAME:CEST
DTSTART:20260329T010000
END:DAYLIGHT
BEGIN:STANDARD
TZOFFSETFROM:+0200
TZOFFSETTO:+0100
TZNAME:CET
DTSTART:20261025T010000
END:STANDARD
END:VTIMEZONE
BEGIN:VEVENT
DTSTART;VALUE=DATE:20250110
DTEND;VALUE=DATE:20250114
DTSTAMP:20260420T001603
CREATED:20241216T113318Z
LAST-MODIFIED:20241216T113318Z
UID:9959-1736496000-1736755199@ljubljanapride.org
SUMMARY:Letno srečanje trenerk_jev
DESCRIPTION:Ob vsakem začetku novega leta se bazen trenerk_jev Društva Parada ponosa sestane na 3-dnevnem srečanju. Skupaj reflektiramo preteklo leto\, se veselimo dosežkov in načrtujemo aktivnosti za prihajajoče leto – 2025. \nV letu 2025 nas čaka pomembno sodelovanje s šolami in vključujočimi organizacijami ter obilica mednarodnih treningov\, izmenjav in kreativnih izobraževalnih produktov.
URL:https://ljubljanapride.org/event/letno-srecanje-trenerk_jev/
LOCATION:Terme Olimija\, Zdraviliška cesta 24\, Podčetrtek\, 3254\, Slovenia
ATTACH;FMTTYPE=image/jpeg:https://ljubljanapride.org/wp-content/uploads/2024/07/unnamed-1-e1721628520249.jpg
END:VEVENT
END:VCALENDAR