BEGIN:VCALENDAR
VERSION:2.0
PRODID:-//Društvo Parada Ponosa - ECPv6.15.17.1//NONSGML v1.0//EN
CALSCALE:GREGORIAN
METHOD:PUBLISH
X-WR-CALNAME:Društvo Parada Ponosa
X-ORIGINAL-URL:https://ljubljanapride.org
X-WR-CALDESC:Dogodki za Društvo Parada Ponosa
REFRESH-INTERVAL;VALUE=DURATION:PT1H
X-Robots-Tag:noindex
X-PUBLISHED-TTL:PT1H
BEGIN:VTIMEZONE
TZID:Europe/Ljubljana
BEGIN:DAYLIGHT
TZOFFSETFROM:+0100
TZOFFSETTO:+0200
TZNAME:CEST
DTSTART:20240331T010000
END:DAYLIGHT
BEGIN:STANDARD
TZOFFSETFROM:+0200
TZOFFSETTO:+0100
TZNAME:CET
DTSTART:20241027T010000
END:STANDARD
BEGIN:DAYLIGHT
TZOFFSETFROM:+0100
TZOFFSETTO:+0200
TZNAME:CEST
DTSTART:20250330T010000
END:DAYLIGHT
BEGIN:STANDARD
TZOFFSETFROM:+0200
TZOFFSETTO:+0100
TZNAME:CET
DTSTART:20251026T010000
END:STANDARD
BEGIN:DAYLIGHT
TZOFFSETFROM:+0100
TZOFFSETTO:+0200
TZNAME:CEST
DTSTART:20260329T010000
END:DAYLIGHT
BEGIN:STANDARD
TZOFFSETFROM:+0200
TZOFFSETTO:+0100
TZNAME:CET
DTSTART:20261025T010000
END:STANDARD
END:VTIMEZONE
BEGIN:VEVENT
DTSTART;TZID=Europe/Ljubljana:20250303T160000
DTEND;TZID=Europe/Ljubljana:20250303T180000
DTSTAMP:20260419T173944
CREATED:20250119T163219Z
LAST-MODIFIED:20250119T163238Z
UID:10030-1741017600-1741024800@ljubljanapride.org
SUMMARY:LGBT TOUR: Z MLADIMI PO LGBTIQ+ LJUBLJANI
DESCRIPTION:LGBT ture so super priložnost\, da spoznaš Ljubljano skozi oči mladih LGBTIQ+ vodičk_ev! Skupaj bomo odkrile_i mesta in zgodbe\, ki so zaznamovale boj za pravice in življenja LGBTIQ+ skupnosti pri nas. To ni le zgodovinska lekcija – je tudi način\, kako bolje razumeti življenje\, aktivizem in prostor\, v katerem živimo. Pridruži se nam in spoznaj drugačno\, mavrično stran prestolnice! \nUdeležba je brezplačna\, vendar so zaradi omejenega števila mest v skupini obvezne prijave na info@ljubljanapride.org. Prijave se zbirajo do enega dneva pred dogodkom. \n25.2. ob 16.00h\, po centru Ljubljane (štartna lokacija se sporoči prijavljenima) – tura v slovenščini\n3.3. ob 16.00h\, po centru Ljubljane (štartna lokacija se sporoči prijavljenima) – tura v angleščini \nVeč informacij kmalu! \nDogodek poteka v sklopu LUV festivala. Več o festivalu lahko preberete tukaj:\nhttps://www.visitljubljana.com/sl/obiskovalci/znamenitosti-in-aktivnosti/izpostavljeno/luv-fest/ \nAvtorica naslovne fotografije: Nika Vidnjevič
URL:https://ljubljanapride.org/event/lgbt-tour-z-mladimi-po-lgbtiq-ljubljani-2/
ATTACH;FMTTYPE=image/jpeg:https://ljubljanapride.org/wp-content/uploads/2025/01/unnamed-scaled.jpg
END:VEVENT
END:VCALENDAR