BEGIN:VCALENDAR
VERSION:2.0
PRODID:-//Društvo Parada Ponosa - ECPv6.15.17.1//NONSGML v1.0//EN
CALSCALE:GREGORIAN
METHOD:PUBLISH
X-WR-CALNAME:Društvo Parada Ponosa
X-ORIGINAL-URL:https://ljubljanapride.org
X-WR-CALDESC:Dogodki za Društvo Parada Ponosa
REFRESH-INTERVAL;VALUE=DURATION:PT1H
X-Robots-Tag:noindex
X-PUBLISHED-TTL:PT1H
BEGIN:VTIMEZONE
TZID:Europe/Ljubljana
BEGIN:DAYLIGHT
TZOFFSETFROM:+0100
TZOFFSETTO:+0200
TZNAME:CEST
DTSTART:20240331T010000
END:DAYLIGHT
BEGIN:STANDARD
TZOFFSETFROM:+0200
TZOFFSETTO:+0100
TZNAME:CET
DTSTART:20241027T010000
END:STANDARD
BEGIN:DAYLIGHT
TZOFFSETFROM:+0100
TZOFFSETTO:+0200
TZNAME:CEST
DTSTART:20250330T010000
END:DAYLIGHT
BEGIN:STANDARD
TZOFFSETFROM:+0200
TZOFFSETTO:+0100
TZNAME:CET
DTSTART:20251026T010000
END:STANDARD
BEGIN:DAYLIGHT
TZOFFSETFROM:+0100
TZOFFSETTO:+0200
TZNAME:CEST
DTSTART:20260329T010000
END:DAYLIGHT
BEGIN:STANDARD
TZOFFSETFROM:+0200
TZOFFSETTO:+0100
TZNAME:CET
DTSTART:20261025T010000
END:STANDARD
END:VTIMEZONE
BEGIN:VEVENT
DTSTART;TZID=Europe/Ljubljana:20250526T093000
DTEND;TZID=Europe/Ljubljana:20250526T113000
DTSTAMP:20260420T011108
CREATED:20250515T171250Z
LAST-MODIFIED:20250515T171250Z
UID:10510-1748251800-1748259000@ljubljanapride.org
SUMMARY:LGBT tura po Ljubljani
DESCRIPTION:V Društvu Parada ponosa že od leta 2015 izvajamo vodene LGBT ture za gostje_e Festivala Parada ponosa\, saj želimo obiskovalce_ke izobraževati o zgodovini in aktualnem stanju LGBTIQ+ aktivizma v Ljubljani in Sloveniji. LGBT ture po Ljubljani vodijo mlade LGBTIQ+ prostovoljke_ci\, ki ponujajo edinstven ogled Ljubljane skozi mavrična očala. \nDodatne LGBT ture načrtujemo v sklopu letošnjega Festivala parada ponosa\, več informacij kmalu!  \n 
URL:https://ljubljanapride.org/event/lgbt-tura-po-ljubljani/
LOCATION:Društvo Parada ponosa\, Dunajska cesta 10\, Ljubljana
ATTACH;FMTTYPE=image/png:https://ljubljanapride.org/wp-content/uploads/2025/05/Izdelek-brez-naslova-4.png
ORGANIZER;CN="Dru%C5%A1tvo Parada ponosa":MAILTO:info@ljubljanapride.org
END:VEVENT
END:VCALENDAR