BEGIN:VCALENDAR
VERSION:2.0
PRODID:-//Društvo Parada Ponosa - ECPv6.15.17.1//NONSGML v1.0//EN
CALSCALE:GREGORIAN
METHOD:PUBLISH
X-WR-CALNAME:Društvo Parada Ponosa
X-ORIGINAL-URL:https://ljubljanapride.org
X-WR-CALDESC:Dogodki za Društvo Parada Ponosa
REFRESH-INTERVAL;VALUE=DURATION:PT1H
X-Robots-Tag:noindex
X-PUBLISHED-TTL:PT1H
BEGIN:VTIMEZONE
TZID:Europe/Ljubljana
BEGIN:DAYLIGHT
TZOFFSETFROM:+0100
TZOFFSETTO:+0200
TZNAME:CEST
DTSTART:20240331T010000
END:DAYLIGHT
BEGIN:STANDARD
TZOFFSETFROM:+0200
TZOFFSETTO:+0100
TZNAME:CET
DTSTART:20241027T010000
END:STANDARD
BEGIN:DAYLIGHT
TZOFFSETFROM:+0100
TZOFFSETTO:+0200
TZNAME:CEST
DTSTART:20250330T010000
END:DAYLIGHT
BEGIN:STANDARD
TZOFFSETFROM:+0200
TZOFFSETTO:+0100
TZNAME:CET
DTSTART:20251026T010000
END:STANDARD
BEGIN:DAYLIGHT
TZOFFSETFROM:+0100
TZOFFSETTO:+0200
TZNAME:CEST
DTSTART:20260329T010000
END:DAYLIGHT
BEGIN:STANDARD
TZOFFSETFROM:+0200
TZOFFSETTO:+0100
TZNAME:CET
DTSTART:20261025T010000
END:STANDARD
END:VTIMEZONE
BEGIN:VEVENT
DTSTART;TZID=Europe/Ljubljana:20250628T140000
DTEND;TZID=Europe/Ljubljana:20250628T170000
DTSTAMP:20260421T101744
CREATED:20250624T152630Z
LAST-MODIFIED:20250624T152630Z
UID:10577-1751119200-1751130000@ljubljanapride.org
SUMMARY:Ljubljana Pride ekipa se bo v solidarnosti z LGBTIQ+ skupnostjo na Madžarskem udeležila Budapest Pride
DESCRIPTION:Med 25. in 29. junijem se bo ekipa Društva Parada ponosa odpravila v Budimpešto na Job Shadowing h kolegicam_om iz Budapest Prida. Najprej se bomo udeležile njihove konference za človekove pravice\, kjer bo naša predsednica\, Simona Muršec\, tudi izvedla delavnico z naslovom “How to build resilience in difficult circumstances” oz. “Kako v težkih okoliščinah gradimo trdoživost”. \nNato pa se skupaj udeležimo tudi Parade ponosa v Budimpešti. \nVabljene vse\, da se nam pridružite pod skupnim sloganom in izkažemo sosedsko solidarnost!
URL:https://ljubljanapride.org/event/ljubljana-pride-ekipa-se-bo-v-solidarnosti-z-lgbtiq-skupnostjo-na-madzarskem-udelezila-budapest-pride/
ATTACH;FMTTYPE=image/jpeg:https://ljubljanapride.org/wp-content/uploads/2025/06/option_1-scaled.jpg
END:VEVENT
END:VCALENDAR