BEGIN:VCALENDAR
VERSION:2.0
PRODID:-//Društvo Parada Ponosa - ECPv6.15.17.1//NONSGML v1.0//EN
CALSCALE:GREGORIAN
METHOD:PUBLISH
X-WR-CALNAME:Društvo Parada Ponosa
X-ORIGINAL-URL:https://ljubljanapride.org
X-WR-CALDESC:Dogodki za Društvo Parada Ponosa
REFRESH-INTERVAL;VALUE=DURATION:PT1H
X-Robots-Tag:noindex
X-PUBLISHED-TTL:PT1H
BEGIN:VTIMEZONE
TZID:Europe/Ljubljana
BEGIN:DAYLIGHT
TZOFFSETFROM:+0100
TZOFFSETTO:+0200
TZNAME:CEST
DTSTART:20220327T010000
END:DAYLIGHT
BEGIN:STANDARD
TZOFFSETFROM:+0200
TZOFFSETTO:+0100
TZNAME:CET
DTSTART:20221030T010000
END:STANDARD
BEGIN:DAYLIGHT
TZOFFSETFROM:+0100
TZOFFSETTO:+0200
TZNAME:CEST
DTSTART:20230326T010000
END:DAYLIGHT
BEGIN:STANDARD
TZOFFSETFROM:+0200
TZOFFSETTO:+0100
TZNAME:CET
DTSTART:20231029T010000
END:STANDARD
BEGIN:DAYLIGHT
TZOFFSETFROM:+0100
TZOFFSETTO:+0200
TZNAME:CEST
DTSTART:20240331T010000
END:DAYLIGHT
BEGIN:STANDARD
TZOFFSETFROM:+0200
TZOFFSETTO:+0100
TZNAME:CET
DTSTART:20241027T010000
END:STANDARD
END:VTIMEZONE
BEGIN:VEVENT
DTSTART;TZID=Europe/Ljubljana:20231212T140000
DTEND;TZID=Europe/Ljubljana:20231213T140000
DTSTAMP:20260420T185819
CREATED:20231127T145902Z
LAST-MODIFIED:20231127T145902Z
UID:8509-1702389600-1702476000@ljubljanapride.org
SUMMARY:Ljubljana Pride praznični maraton
DESCRIPTION:Bliža se že tradicionalni Paradni zaključek leta!\n‌\nLetos se v enem dnevu dogaja toliko različnih stvari\, da smo ga poimenovale_i kar maraton. Z veseljem vas vabimo na poučno\, razgibano\, slastno in razigrano druženje\, ki bo 12. 12. 2023 potekalo v Klubu Tiffany. Kaj vse se bo dogajalo\, si preberite spodaj.\n‌\nDatum: 12. 12. 2023\nLokacija: Klub Tiffany\nDostopnost: prostor je dostopen za osebe\, ki uporabljajo voziček\nJezik: slovenščina\, del diskusije na občnem zboru bo po potrebi v angleščini\nTema: grdi božični puloverji in bleščice\nPrijava:\nhttps://docs.google.com/…/1FAIpQLSfFgtRCK4EEwb…/viewform\n‌\nProgram:\n‌\n14.00 – 17.00 I Posvet: Praznujemo človekove pravice LGBTIQ+ oseb\n‌\nV luči mednarodnega dneva človekovih pravic\, ki je vsako leto 10. 12.\, bomo na posvetu naredile_i pregled preteklih bojev\, trenutnega stanja in pogledale_i v prihodnost treh področij človekovih pravic\, ki se prepletajo s pravicami LGBTIQ+ skupnosti. Vabljene_i predstavnice_ki LGBTIQ+ organizacij\, organizacij\, ki se ukvarjajo s človekovimi pravicami in ostale_i zainteresirane_i.\n‌\nVeč informacij:\nhttps://fb.me/e/1H78QDLdz\n‌\n17.30 – 19.00 I Občni zbor\n‌\nVsak prednovoletni občni zbor vas seznani s preteklim delovanjem Društva Parada ponosa in z načrti za prihajajoče leto. Tokrat pa ga bomo izvedle_i v bolj razgibanem formatu\, kjer boste lahko izvedele_i veliko informacij\, vendar hkrati le tiste\, ki vas res zanimajo. Vabljene_i vse\, ki želite izvedeti več o strategiji Društva Parada ponosa\, prispevati ideje za Festival Parada ponosa 2024 ter spoznati naše programe in ekipo.\n‌\n19.30 – 21.00 I Praznična večerja\n‌\nDa se okrepčamo in ogrejemo pred večernim petjem in miganjem\, bomo postregle_i z doma narejenimi veganskimi in vegetarijanskimi prazničnimi dobrotami.\n‌\n21.00 – 24.00 I Karaoke\n‌\nZadnji del dogodka je namenjen temu\, da si damo duška\, pojemo\, plešemo\, praznujemo\, se družimo in uživamo v eni izmed najbolj popularnih aktivnosti znotraj LGBTIQ+ skupnosti – Karaokah!\n‌\nPomembno: Dogodek je zaprtega tipa\, za udeležbo je obvezna predhodna prijava. Pri organizaciji nam bo zelo pomagalo\, če na prijavnici odkljukate\, katerih delov programa se boste udeležile_i.\n‌\nPrijava:\nhttps://docs.google.com/…/1FAIpQLSfFgtRCK4EEwb…/viewform\n‌\nPridite in uživajte v Paradno – prazničnem vzdušju s svojo izbrano družino!
URL:https://ljubljanapride.org/event/ljubljana-pride-praznicni-maraton/
LOCATION:Klub Tiffany\, Masarykova 24\, 1000 Ljubljana
ATTACH;FMTTYPE=image/jpeg:https://ljubljanapride.org/wp-content/uploads/2023/11/Maraton_fb-scaled.jpg
END:VEVENT
END:VCALENDAR