BEGIN:VCALENDAR
VERSION:2.0
PRODID:-//Društvo Parada Ponosa - ECPv6.15.17.1//NONSGML v1.0//EN
CALSCALE:GREGORIAN
METHOD:PUBLISH
X-WR-CALNAME:Društvo Parada Ponosa
X-ORIGINAL-URL:https://ljubljanapride.org
X-WR-CALDESC:Dogodki za Društvo Parada Ponosa
REFRESH-INTERVAL;VALUE=DURATION:PT1H
X-Robots-Tag:noindex
X-PUBLISHED-TTL:PT1H
BEGIN:VTIMEZONE
TZID:Europe/Ljubljana
BEGIN:DAYLIGHT
TZOFFSETFROM:+0100
TZOFFSETTO:+0200
TZNAME:CEST
DTSTART:20230326T010000
END:DAYLIGHT
BEGIN:STANDARD
TZOFFSETFROM:+0200
TZOFFSETTO:+0100
TZNAME:CET
DTSTART:20231029T010000
END:STANDARD
BEGIN:DAYLIGHT
TZOFFSETFROM:+0100
TZOFFSETTO:+0200
TZNAME:CEST
DTSTART:20240331T010000
END:DAYLIGHT
BEGIN:STANDARD
TZOFFSETFROM:+0200
TZOFFSETTO:+0100
TZNAME:CET
DTSTART:20241027T010000
END:STANDARD
BEGIN:DAYLIGHT
TZOFFSETFROM:+0100
TZOFFSETTO:+0200
TZNAME:CEST
DTSTART:20250330T010000
END:DAYLIGHT
BEGIN:STANDARD
TZOFFSETFROM:+0200
TZOFFSETTO:+0100
TZNAME:CET
DTSTART:20251026T010000
END:STANDARD
END:VTIMEZONE
BEGIN:VEVENT
DTSTART;VALUE=DATE:20241004
DTEND;VALUE=DATE:20241008
DTSTAMP:20260419T225622
CREATED:20240627T110750Z
LAST-MODIFIED:20240924T110606Z
UID:9481-1728028800-1728287999@ljubljanapride.org
SUMMARY:Mednarodna konferenca - lansiranje Sheme Certificiranja Vključujočih organizacij
DESCRIPTION:Med 4. in 6. oktobrom bo v Rimu potekala mednarodna konferenca za lansiranje Sheme certificiranja vključujočih organizacij. \nShemo smo zasnovale v Društvu Parada ponosa in smo jo že začele implementirati znotraj Mreže vključujočih organizacij. Predstavlja enega večjih dosežkov in konkretnih rezultatov dela\, ki se je začelo že leta 2019\, ko smo pripravljale priročnik za Vključujoče organizacije.
URL:https://ljubljanapride.org/event/mednarodna-konferenca-lansiranje-sheme-certificiranja-vkljucujocih-organizacij/
LOCATION:Rim\, Italija
ATTACH;FMTTYPE=image/png:https://ljubljanapride.org/wp-content/uploads/2024/01/Vkljucujoce-organizacije_square-01.png
END:VEVENT
END:VCALENDAR