BEGIN:VCALENDAR
VERSION:2.0
PRODID:-//Društvo Parada Ponosa - ECPv6.15.17.1//NONSGML v1.0//EN
CALSCALE:GREGORIAN
METHOD:PUBLISH
X-WR-CALNAME:Društvo Parada Ponosa
X-ORIGINAL-URL:https://ljubljanapride.org
X-WR-CALDESC:Dogodki za Društvo Parada Ponosa
REFRESH-INTERVAL;VALUE=DURATION:PT1H
X-Robots-Tag:noindex
X-PUBLISHED-TTL:PT1H
BEGIN:VTIMEZONE
TZID:Europe/Ljubljana
BEGIN:DAYLIGHT
TZOFFSETFROM:+0100
TZOFFSETTO:+0200
TZNAME:CEST
DTSTART:20220327T010000
END:DAYLIGHT
BEGIN:STANDARD
TZOFFSETFROM:+0200
TZOFFSETTO:+0100
TZNAME:CET
DTSTART:20221030T010000
END:STANDARD
BEGIN:DAYLIGHT
TZOFFSETFROM:+0100
TZOFFSETTO:+0200
TZNAME:CEST
DTSTART:20230326T010000
END:DAYLIGHT
BEGIN:STANDARD
TZOFFSETFROM:+0200
TZOFFSETTO:+0100
TZNAME:CET
DTSTART:20231029T010000
END:STANDARD
BEGIN:DAYLIGHT
TZOFFSETFROM:+0100
TZOFFSETTO:+0200
TZNAME:CEST
DTSTART:20240331T010000
END:DAYLIGHT
BEGIN:STANDARD
TZOFFSETFROM:+0200
TZOFFSETTO:+0100
TZNAME:CET
DTSTART:20241027T010000
END:STANDARD
END:VTIMEZONE
BEGIN:VEVENT
DTSTART;VALUE=DATE:20230218
DTEND;VALUE=DATE:20230226
DTSTAMP:20260421T174357
CREATED:20230116T120006Z
LAST-MODIFIED:20230116T120202Z
UID:7223-1676707200-1677311999@ljubljanapride.org
SUMMARY:Mladinska izmenjava: Storytelling
DESCRIPTION:Društvo Parada Ponosa išče 5 mladih slovenskih LGBTIQ+ oseb (starih med 18 in 29 let)\, ki bi se rade_i udeležile_i mednarodne mladinske izmenjave od 18. do 24. februarja 2023 v Sloveniji. \nTema izmenjave bo pripovedovanje zgodb\, kar pomeni\, da se bodo udeleženke_ci naučile_i\, kako s pomočjo različnih metod deliti svojo zgodbo o tem\, kako je biti mlada kvir oseba\, se naučile_i\, kako to različno predstaviti – glede na občinstvo in namen\, ter kako to uporabiti v aktivistične namene. \nTiste_i\, ki bodo želel_e\, bo lahko posnel_e kratek videoposnetek\, na katerem bodo delile_i svojo zgodbo. \nNa mladinski izmenjavi bodo sodelovali udeleženci iz Slovenije\, Severne Makedonije\, Španije in Slovaške\, kar je odlična priložnost za navezovanje novih stikov in izmenjavo izkušenj!\nDejavnosti bodo potekale v angleškem jeziku. \nStroški nastanitve\, prehrane\, potovanja in programa so v celoti kriti.\nIzmenjava bo potekala v MC Hostel Brežice. \nČe te zanima\, se prijavi tukaj: Youth exchange – Storytelling – Call for participants \nAktivnost financira Evropska unija.
URL:https://ljubljanapride.org/event/mladinska-izmenjava-storytelling/
LOCATION:MC Hostel Brežice
ATTACH;FMTTYPE=image/jpeg:https://ljubljanapride.org/wp-content/uploads/2023/01/Storytelling_youth-exchange-scaled.jpg
END:VEVENT
END:VCALENDAR